BEGIN:VCALENDAR
VERSION:2.0
PRODID:-//APO - ECPv6.14.2//NONSGML v1.0//EN
CALSCALE:GREGORIAN
METHOD:PUBLISH
X-WR-CALNAME:APO
X-ORIGINAL-URL:https://www.apo-tokyo.org
X-WR-CALDESC:Events for APO
REFRESH-INTERVAL;VALUE=DURATION:PT1H
X-Robots-Tag:noindex
X-PUBLISHED-TTL:PT1H
BEGIN:VTIMEZONE
TZID:UTC
BEGIN:STANDARD
TZOFFSETFROM:+0000
TZOFFSETTO:+0000
TZNAME:UTC
DTSTART:20250101T000000
END:STANDARD
END:VTIMEZONE
BEGIN:VEVENT
DTSTART;VALUE=DATE:20251128
DTEND;VALUE=DATE:20251130
DTSTAMP:20260425T005846
CREATED:20250902T054909Z
LAST-MODIFIED:20250902T054909Z
UID:71877-1764288000-1764460799@www.apo-tokyo.org
SUMMARY:Conference on Green Productivity 2.0
DESCRIPTION:The APO established GP to integrate productivity enhancement and environmental protection. Over three decades\, this initiative has equipped members with tools and methodologies for achieving sustainable development. However\, rapid advances in technology\, increasing emphasis on net-zero emission policies\, and the UN SDGs require GP to be revised to meet evolving demands. With the support of a special cash grant from the Government of Japan\, GP 2.0 introduces sector-specific elements forming a comprehensive ecosystem. This new initiative will support enhanced productivity while meeting global sustainability commitments. \nTo promote and discuss GP 2.0\, the APO collaborated with Pakistan to organize this conference. With the active involvement of Pakistan in promoting GP through demonstration projects\, certification\, and a technical working group\, this conference will also share the impact of GP implementation in the country as well as in other members. \nFor more details please click on PN.
URL:https://www.apo-tokyo.org/event/conference-on-green-productivity-2-0/
LOCATION:Pakistan
CATEGORIES:Projects
ATTACH;FMTTYPE=image/png:https://www.apo-tokyo.org/wp-content/uploads/2022/06/Multicountry.png
END:VEVENT
END:VCALENDAR