BEGIN:VCALENDAR
VERSION:2.0
PRODID:-//APO - ECPv6.14.2//NONSGML v1.0//EN
CALSCALE:GREGORIAN
METHOD:PUBLISH
X-WR-CALNAME:APO
X-ORIGINAL-URL:https://www.apo-tokyo.org
X-WR-CALDESC:Events for APO
REFRESH-INTERVAL;VALUE=DURATION:PT1H
X-Robots-Tag:noindex
X-PUBLISHED-TTL:PT1H
BEGIN:VTIMEZONE
TZID:UTC
BEGIN:STANDARD
TZOFFSETFROM:+0000
TZOFFSETTO:+0000
TZNAME:UTC
DTSTART:20250101T000000
END:STANDARD
END:VTIMEZONE
BEGIN:VEVENT
DTSTART;VALUE=DATE:20251024
DTEND;VALUE=DATE:20251025
DTSTAMP:20260425T022956
CREATED:20251024T081616Z
LAST-MODIFIED:20251024T081713Z
UID:76455-1761264000-1761350399@www.apo-tokyo.org
SUMMARY:Conference on Improvement of Productivity in Greenhouse Vegetable Production
DESCRIPTION:With the support of a special cash grant from the Government of Japan\, the APO initiated a demonstration farm project in October 2022 on Improvement of Productivity in Greenhouse Vegetable Production. This project aims to showcase microclimate control systems used by Japanese greenhouses and help farmers in Vietnam utilize the systems. It is expected to enhance labor productivity and sustainability in vegetable production in Vietnam. Garden Mountain (GM) was selected as a demonstration company under the project. Using a similar system operated by companies in Japan\, GM has achieved some remarkable results in raising labor productivity\, process efficiency\, and sustainability. \nTo share the results and disseminate the knowledge to other members\, this conference is conducted to help participants understand the mechanisms of control and microclimate data collection and benefits of using them. It will also demonstrate the achievements of GM so that other members understand the benefits of digital transformation and adopt the systems in their contexts. \nFor more details please click on PIP.
URL:https://www.apo-tokyo.org/event/conference-on-improvement-of-productivity-in-greenhouse-vegetable-production/
LOCATION:Vietnam
CATEGORIES:Projects
ATTACH;FMTTYPE=image/png:https://www.apo-tokyo.org/wp-content/uploads/2025/09/Individual-Country.png
END:VEVENT
END:VCALENDAR