BEGIN:VCALENDAR
VERSION:2.0
PRODID:-//APO - ECPv6.14.2//NONSGML v1.0//EN
CALSCALE:GREGORIAN
METHOD:PUBLISH
X-WR-CALNAME:APO
X-ORIGINAL-URL:https://www.apo-tokyo.org
X-WR-CALDESC:Events for APO
REFRESH-INTERVAL;VALUE=DURATION:PT1H
X-Robots-Tag:noindex
X-PUBLISHED-TTL:PT1H
BEGIN:VTIMEZONE
TZID:UTC
BEGIN:STANDARD
TZOFFSETFROM:+0000
TZOFFSETTO:+0000
TZNAME:UTC
DTSTART:20220101T000000
END:STANDARD
END:VTIMEZONE
BEGIN:VEVENT
DTSTART;VALUE=DATE:20220531
DTEND;VALUE=DATE:20220601
DTSTAMP:20260422T184008
CREATED:20220531T103422Z
LAST-MODIFIED:20220617T060720Z
UID:53497-1653955200-1654041599@www.apo-tokyo.org
SUMMARY:Data Analytics for Fishery Productivity
DESCRIPTION:This P-Talk highlights smart technologies introduced to coastal fisheries in Japan. Information such as boat location and catch is collected automatically or manually and used for visualizing fishing grounds\, estimating marine resources\, etc. Dr. Masaaki Wada\, Professor\, Future University Hakodate\, Japan\, is adapting such smart technologies into a new form of “marine_IT”. In this P-Talk\, he guides viewers on using smart technologies for making fisheries sustainable. \nPlease click here to watch. \nSubscribe to our APO YouTube channel for more videos and updates on our activities. \nFor any inquiries\, please write to: p-talk@apo-tokyo.org.
URL:https://www.apo-tokyo.org/event/data-analytics-for-fishery-productivity/
LOCATION:APO Secretariat
CATEGORIES:P-Talks
ATTACH;FMTTYPE=image/png:https://www.apo-tokyo.org/wp-content/uploads/2022/06/2072-APOS-5-610x344-1.png
END:VEVENT
END:VCALENDAR