BEGIN:VCALENDAR
VERSION:2.0
PRODID:-//APO - ECPv6.14.2//NONSGML v1.0//EN
CALSCALE:GREGORIAN
METHOD:PUBLISH
X-WR-CALNAME:APO
X-ORIGINAL-URL:https://www.apo-tokyo.org
X-WR-CALDESC:Events for APO
REFRESH-INTERVAL;VALUE=DURATION:PT1H
X-Robots-Tag:noindex
X-PUBLISHED-TTL:PT1H
BEGIN:VTIMEZONE
TZID:Asia/Tokyo
BEGIN:STANDARD
TZOFFSETFROM:+0900
TZOFFSETTO:+0900
TZNAME:JST
DTSTART:20220101T000000
END:STANDARD
END:VTIMEZONE
BEGIN:VEVENT
DTSTART;TZID=Asia/Tokyo:20220224T140000
DTEND;TZID=Asia/Tokyo:20220224T150000
DTSTAMP:20260423T014456
CREATED:20220221T050451Z
LAST-MODIFIED:20220616T050703Z
UID:50224-1645711200-1645714800@www.apo-tokyo.org
SUMMARY:Empowering the Female Rural Workforce
DESCRIPTION:The rural economy is sustained by the female workforce. But in reality\, women often face obstacles to workforce entry and disadvantages compared with men. Empowering the female rural workforce is an important issue in promoting productivity and women’s participation in rural society. Executive Director Savitri Singh\, National Centre for Cooperative Education\, National Cooperative Union of India\, examines this issue and discusses ways to empower the female rural workforce. \nPlease click here to watch. \nSubscribe to our APO YouTube channel for more videos and updates on our activities. \nFor inquiries\, please contact: p-talk@apo-tokyo.org.
URL:https://www.apo-tokyo.org/event/empowering-the-female-rural-workforce/
LOCATION:APO Secretariat
CATEGORIES:P-Talks
ATTACH;FMTTYPE=image/png:https://www.apo-tokyo.org/wp-content/uploads/2022/02/1145-APOS-02.png
END:VEVENT
END:VCALENDAR