BEGIN:VCALENDAR
VERSION:2.0
PRODID:-//APO - ECPv6.14.2//NONSGML v1.0//EN
CALSCALE:GREGORIAN
METHOD:PUBLISH
X-WR-CALNAME:APO
X-ORIGINAL-URL:https://www.apo-tokyo.org
X-WR-CALDESC:Events for APO
REFRESH-INTERVAL;VALUE=DURATION:PT1H
X-Robots-Tag:noindex
X-PUBLISHED-TTL:PT1H
BEGIN:VTIMEZONE
TZID:UTC
BEGIN:STANDARD
TZOFFSETFROM:+0000
TZOFFSETTO:+0000
TZNAME:UTC
DTSTART:20240101T000000
END:STANDARD
END:VTIMEZONE
BEGIN:VEVENT
DTSTART;VALUE=DATE:20240416
DTEND;VALUE=DATE:20240417
DTSTAMP:20260421T041621
CREATED:20240415T023209Z
LAST-MODIFIED:20240415T023209Z
UID:59178-1713225600-1713311999@www.apo-tokyo.org
SUMMARY:Food Safety Management
DESCRIPTION:Welcome to the Gemba video series of the Asian Productivity Organization. In Japanese\, “gemba” literally means “actual place” but generally refers to a specific site where work is carried out. These videos show good practices at production sites in Japan. \nThe theme of this video is “Food Safety Management” and showcases factory management techniques to ensure food safety. A major focus is on procedures to prevent food poisoning. \nPlease click here to watch. \nSubscribe to our APO YouTube channel for more videos and updates on our activities. \nFor any inquiries\, please write to: p-talk@apo-tokyo.org.
URL:https://www.apo-tokyo.org/event/food-safety-management/
LOCATION:APO Secretariat
CATEGORIES:P-Talks
ATTACH;FMTTYPE=image/jpeg:https://www.apo-tokyo.org/wp-content/uploads/2024/04/Banner-Food-Safety-Management.jpg
END:VEVENT
END:VCALENDAR