BEGIN:VCALENDAR
VERSION:2.0
PRODID:-//APO - ECPv6.14.2//NONSGML v1.0//EN
CALSCALE:GREGORIAN
METHOD:PUBLISH
X-WR-CALNAME:APO
X-ORIGINAL-URL:https://www.apo-tokyo.org
X-WR-CALDESC:Events for APO
REFRESH-INTERVAL;VALUE=DURATION:PT1H
X-Robots-Tag:noindex
X-PUBLISHED-TTL:PT1H
BEGIN:VTIMEZONE
TZID:UTC
BEGIN:STANDARD
TZOFFSETFROM:+0000
TZOFFSETTO:+0000
TZNAME:UTC
DTSTART:20220101T000000
END:STANDARD
END:VTIMEZONE
BEGIN:VEVENT
DTSTART;VALUE=DATE:20220818
DTEND;VALUE=DATE:20220819
DTSTAMP:20260422T151816
CREATED:20220812T053929Z
LAST-MODIFIED:20220818T052822Z
UID:54780-1660780800-1660867199@www.apo-tokyo.org
SUMMARY:Innovation Agencies for Productivity
DESCRIPTION:This P-Talk highlights the current and emerging roles of innovation agencies for supporting innovation and entrepreneurship by considering the challenges and opportunities of tomorrow. By gathering evidence from using different futuristic scenarios\, Alex Glennie\, Senior Policy Manager\, Innovation Growth Lab\, Nesta\, United Kingdom\, explains the innovation policies required in national ecosystems and how they could drive efforts for enhancing productivity. \nPlease click here to watch. \nSubscribe to our APO YouTube channel for more videos and updates on our activities. \nFor any inquiries\, please write to: p-talk@apo-tokyo.org.
URL:https://www.apo-tokyo.org/event/innovation-agencies-for-productivity/
LOCATION:APO Secretariat
CATEGORIES:P-Talks
ATTACH;FMTTYPE=image/png:https://www.apo-tokyo.org/wp-content/uploads/2022/08/Banner_P-Talk-18-Aug.png
END:VEVENT
END:VCALENDAR