BEGIN:VCALENDAR
VERSION:2.0
PRODID:-//APO - ECPv6.14.2//NONSGML v1.0//EN
CALSCALE:GREGORIAN
METHOD:PUBLISH
X-WR-CALNAME:APO
X-ORIGINAL-URL:https://www.apo-tokyo.org
X-WR-CALDESC:Events for APO
REFRESH-INTERVAL;VALUE=DURATION:PT1H
X-Robots-Tag:noindex
X-PUBLISHED-TTL:PT1H
BEGIN:VTIMEZONE
TZID:UTC
BEGIN:STANDARD
TZOFFSETFROM:+0000
TZOFFSETTO:+0000
TZNAME:UTC
DTSTART:20230101T000000
END:STANDARD
END:VTIMEZONE
BEGIN:VEVENT
DTSTART;VALUE=DATE:20231003
DTEND;VALUE=DATE:20231006
DTSTAMP:20260420T134953
CREATED:20230602T074321Z
LAST-MODIFIED:20230602T074321Z
UID:57087-1696291200-1696550399@www.apo-tokyo.org
SUMMARY:Multicountry Observational Study Mission on Promoting Green Manufacturing
DESCRIPTION:Increasing natural resource depletion and CO2 emissions necessitate the adoption of environment-friendly manufacturing practices. The need for greater economic efficiency\, with the least environmental impact\, led to the new manufacturing paradigm of GM. While GM practices were initially adopted by large-scale enterprises\, many SMEs have now started to implement them given their benefits and opportunities while adhering to strict environmental regulations enforced by governments. \nFor APO members\, GM applications by employing various innovative strategies and techniques to become more eco-efficient and raise productivity will help improve their environmental performance and achieve economic gains. GM adoption is thus a key step in achieving the ultimate goal of industrial sustainability in the region. This observational study mission will showcase the GM application of companies and the public policies that promote its adoption to enhance overall competitiveness and sustainability of industries. \nFor more details please click on PN.
URL:https://www.apo-tokyo.org/event/multicountry-observational-study-mission-on-promoting-green-manufacturing/
LOCATION:Republic of China
CATEGORIES:Projects
ATTACH;FMTTYPE=image/png:https://www.apo-tokyo.org/wp-content/uploads/2022/06/Multicountry.png
END:VEVENT
END:VCALENDAR