BEGIN:VCALENDAR
VERSION:2.0
PRODID:-//APO - ECPv6.14.2//NONSGML v1.0//EN
CALSCALE:GREGORIAN
METHOD:PUBLISH
X-WR-CALNAME:APO
X-ORIGINAL-URL:https://www.apo-tokyo.org
X-WR-CALDESC:Events for APO
REFRESH-INTERVAL;VALUE=DURATION:PT1H
X-Robots-Tag:noindex
X-PUBLISHED-TTL:PT1H
BEGIN:VTIMEZONE
TZID:UTC
BEGIN:STANDARD
TZOFFSETFROM:+0000
TZOFFSETTO:+0000
TZNAME:UTC
DTSTART:20240101T000000
END:STANDARD
END:VTIMEZONE
BEGIN:VEVENT
DTSTART;VALUE=DATE:20240627
DTEND;VALUE=DATE:20240628
DTSTAMP:20260421T021843
CREATED:20240619T011200Z
LAST-MODIFIED:20240619T012537Z
UID:59570-1719446400-1719532799@www.apo-tokyo.org
SUMMARY:Post-COP28: Climate Change and Productivity Opportunities for Businesses
DESCRIPTION:The recent COP28 conference emphasized the urgency of addressing climate change\, calling for a 43% reduction in greenhouse gas emissions by 2030 to limit global warming to 1.5°C above preindustrial levels. Governments and businesses alike are compelled to take decisive action\, implementing mitigation plans that span operations\, value chains\, and environmental investments. This involves not only the adoption of direct decarbonization policies/the voluntary carbon market but also other national climate solutions. \nDespite the challenges\, climate actions also open opportunities for businesses to enhance productivity and profitability. Dr. Victor Tay Kah Soon\, Group CEO/CEO of Global Catalyst Advisory\, Singapore\, shares insights into how businesses can navigate this inevitable trend and capitalize on the productivity opportunities. \nPlease click here to watch. \nSubscribe to our APO YouTube channel for more videos and updates on our activities. \nFor any inquiries\, please write to: p-talk@apo-tokyo.org.
URL:https://www.apo-tokyo.org/event/post-cop28-climate-change-and-productivity-opportunities-for-businesses/
LOCATION:APO Secretariat
CATEGORIES:P-Talks
ATTACH;FMTTYPE=image/png:https://www.apo-tokyo.org/wp-content/uploads/2024/06/Banner-P-Talk-27-June.png
END:VEVENT
END:VCALENDAR