BEGIN:VCALENDAR
VERSION:2.0
PRODID:-//APO - ECPv6.14.2//NONSGML v1.0//EN
CALSCALE:GREGORIAN
METHOD:PUBLISH
X-WR-CALNAME:APO
X-ORIGINAL-URL:https://www.apo-tokyo.org
X-WR-CALDESC:Events for APO
REFRESH-INTERVAL;VALUE=DURATION:PT1H
X-Robots-Tag:noindex
X-PUBLISHED-TTL:PT1H
BEGIN:VTIMEZONE
TZID:UTC
BEGIN:STANDARD
TZOFFSETFROM:+0000
TZOFFSETTO:+0000
TZNAME:UTC
DTSTART:20230101T000000
END:STANDARD
END:VTIMEZONE
BEGIN:VEVENT
DTSTART;VALUE=DATE:20230711
DTEND;VALUE=DATE:20230715
DTSTAMP:20260421T031325
CREATED:20230518T014951Z
LAST-MODIFIED:20230518T063032Z
UID:56989-1689033600-1689379199@www.apo-tokyo.org
SUMMARY:Training Course for Assessors of the Green Productivity Specialist Certification Program
DESCRIPTION:The CB Development Program assists NPOs or affiliated organizations in becoming APO-accredited CBs to operate certification schemes of productivity specialists. A CB must build up a pool of qualified assessors to ensure the quality of certified candidates who apply for accreditation. APO-GPS 201:2019 Certification Scheme and Competency Standard for Green Productivity Specialists is operated by APO-accredited CBs. CBs conduct documentation verification\, examination\, desktop assessment\, face-to-face panel interviews\, and evaluation of submitted GP reports before issuing certification to candidates. \nTo strengthen CBs’ capacity\, this course aims to develop assessors in APO members under APO-GPS 201:2019 by providing the required skills\, knowledge\, and ability while maintaining the highest standards in conducting assessments. Participants are expected to continue serving CBs as internal or external assessors after completion of the training course. \nFor more details please click on PN.
URL:https://www.apo-tokyo.org/event/training-course-for-assessors-of-the-green-productivity-specialist-certification-program/
LOCATION:Vietnam
CATEGORIES:Projects
ATTACH;FMTTYPE=image/png:https://www.apo-tokyo.org/wp-content/uploads/2022/06/Multicountry.png
END:VEVENT
END:VCALENDAR