BEGIN:VCALENDAR
VERSION:2.0
PRODID:-//APO - ECPv6.14.2//NONSGML v1.0//EN
CALSCALE:GREGORIAN
METHOD:PUBLISH
X-WR-CALNAME:APO
X-ORIGINAL-URL:https://www.apo-tokyo.org
X-WR-CALDESC:Events for APO
REFRESH-INTERVAL;VALUE=DURATION:PT1H
X-Robots-Tag:noindex
X-PUBLISHED-TTL:PT1H
BEGIN:VTIMEZONE
TZID:UTC
BEGIN:STANDARD
TZOFFSETFROM:+0000
TZOFFSETTO:+0000
TZNAME:UTC
DTSTART:20230101T000000
END:STANDARD
END:VTIMEZONE
BEGIN:VEVENT
DTSTART;VALUE=DATE:20230515
DTEND;VALUE=DATE:20230519
DTSTAMP:20260421T052707
CREATED:20230207T021901Z
LAST-MODIFIED:20230207T021901Z
UID:56315-1684108800-1684454399@www.apo-tokyo.org
SUMMARY:Workshop on Business Model Strategies for Startups
DESCRIPTION:Business models can be simply plans to make money\, what a company will and will not do\, how to meet market and customer needs\, utilize technology\, and analyze a company’s strengths and weaknesses. Good business models give a competitive advantage in the market. Productivity plays a vital role in successful startups\, which must make the most of limited resources\, by incentivizing employees and fostering an environment for collaboration. The business model canvas is an essential tool for designing\, discussing\, and reinventing business models and consists of nine building blocks: customer segments; value propositions; channels for delivering value; customer relationships; revenue streams; key resources; activities; partners; and cost structure. \nThe applications of the business model canvas can be combined with the lean startup approach with productivity as its core. The primary skillsets involved are useful for all successful startup founders. \nFor more details please click on PN.
URL:https://www.apo-tokyo.org/event/workshop-on-business-model-strategies-for-startups/
LOCATION:Mongolia
CATEGORIES:Projects
ATTACH;FMTTYPE=image/png:https://www.apo-tokyo.org/wp-content/uploads/2022/06/Multicountry.png
END:VEVENT
END:VCALENDAR