BEGIN:VCALENDAR
VERSION:2.0
PRODID:-//APO - ECPv6.14.2//NONSGML v1.0//EN
CALSCALE:GREGORIAN
METHOD:PUBLISH
X-WR-CALNAME:APO
X-ORIGINAL-URL:https://www.apo-tokyo.org
X-WR-CALDESC:Events for APO
REFRESH-INTERVAL;VALUE=DURATION:PT1H
X-Robots-Tag:noindex
X-PUBLISHED-TTL:PT1H
BEGIN:VTIMEZONE
TZID:UTC
BEGIN:STANDARD
TZOFFSETFROM:+0000
TZOFFSETTO:+0000
TZNAME:UTC
DTSTART:20220101T000000
END:STANDARD
END:VTIMEZONE
BEGIN:VEVENT
DTSTART;VALUE=DATE:20221128
DTEND;VALUE=DATE:20221201
DTSTAMP:20260421T213635
CREATED:20221101T005930Z
LAST-MODIFIED:20221101T005930Z
UID:55666-1669593600-1669852799@www.apo-tokyo.org
SUMMARY:Workshop on Innovations in the Olive Oil Sector
DESCRIPTION:The olive oil industry has experienced growth recently in the Hatay\, Kahramanmaras\, and Osmaniye provinces of Turkiye. Olive oil produced in those provinces is sought after for its flavor and aroma in both domestic and foreign markets. Olive oil production in those provinces was 137\,888 tons in 2021\, comprising 12% of total production in Turkiye. \nInnovation leads to the expansion and improvement of techniques and technologies for production and distribution. Digital innovation could support the entire supply chain as well. Advanced technologies in the olive oil sector play a crucial role in building reliable\, safe\, sustainable FVCs. For example\, digital technologies such as the cloud\, IoT\, big data\, and AI can help in developing efficient\, effective FVCs. Applications of blockchain technology to FVCs may help develop fool-proof\, reliable food traceability systems. The Eastern Mediterranean Development Agency (DOGAKA) has provided financial support to olive oil firms for modern machinery investments for years. \nConsidering the importance of improving the services of olive oil producers to respond to the marketplace by linking production\, processing\, transportation\, storage\, and marketing activities to consumer demand\, DOGAKA and the APO are therefore organizing this workshop to bring all partners together to discuss innovations in olive oil production\, standardization\, branding\, technological development\, and marketing trends. \nFor more details please click on PIP.
URL:https://www.apo-tokyo.org/event/workshop-on-innovations-in-the-olive-oil-sector/
LOCATION:Turkiye
CATEGORIES:Projects
ATTACH;FMTTYPE=image/png:https://www.apo-tokyo.org/wp-content/uploads/2022/06/Multicountry.png
END:VEVENT
END:VCALENDAR