BEGIN:VCALENDAR
VERSION:2.0
PRODID:-//APO - ECPv6.14.2//NONSGML v1.0//EN
CALSCALE:GREGORIAN
METHOD:PUBLISH
X-WR-CALNAME:APO
X-ORIGINAL-URL:https://www.apo-tokyo.org
X-WR-CALDESC:Events for APO
REFRESH-INTERVAL;VALUE=DURATION:PT1H
X-Robots-Tag:noindex
X-PUBLISHED-TTL:PT1H
BEGIN:VTIMEZONE
TZID:Asia/Tokyo
BEGIN:STANDARD
TZOFFSETFROM:+0900
TZOFFSETTO:+0900
TZNAME:JST
DTSTART:20220101T000000
END:STANDARD
END:VTIMEZONE
BEGIN:VEVENT
DTSTART;TZID=Asia/Tokyo:20220118T140000
DTEND;TZID=Asia/Tokyo:20220118T150000
DTSTAMP:20260423T014204
CREATED:20220118T140327Z
LAST-MODIFIED:20220616T050802Z
UID:47707-1642514400-1642518000@www.apo-tokyo.org
SUMMARY:Productivity 2022: Rebound and Regrowth
DESCRIPTION:While the world is recovering from COVID-19\, 2022 is a cautiously optimistic year. As new variants emerge periodically\, challenges and uncertainty are likely to endure. Nonetheless\, the world must move forward for rebound and regrowth. In this curtain-raiser of 2022 P-Talk\, Meidyatama Suryodiningrat\, President Director\, Antara News Agency\, Indonesia\, moderates an interactive discussion with Dr. Vu Minh Khuong\, Associate Professor\, Lee Kuan Yew School of Public Policy\, Singapore\, and Buryan Turan\, CEO\, Simularge A.S.\, Turkey\, on economic growth across member countries\, intensifying digitization of industry\, and the role of intergovernmental organizations in supporting members. \nPlease click here to watch. \nSubscribe to our APO YouTube channel for more videos and updates on our activities. \nFor inquiries\, please contact: p-talk@apo-tokyo.org
URL:https://www.apo-tokyo.org/event/productivity-2022-rebound-and-regrowth/
LOCATION:APO Secretariat
CATEGORIES:P-Talks
ATTACH;FMTTYPE=image/png:https://www.apo-tokyo.org/wp-content/uploads/2022/01/Productivity-2022-Regrow.png
END:VEVENT
END:VCALENDAR