BEGIN:VCALENDAR
VERSION:2.0
PRODID:-//APO - ECPv6.14.2//NONSGML v1.0//EN
CALSCALE:GREGORIAN
METHOD:PUBLISH
X-WR-CALNAME:APO
X-ORIGINAL-URL:https://www.apo-tokyo.org
X-WR-CALDESC:Events for APO
REFRESH-INTERVAL;VALUE=DURATION:PT1H
X-Robots-Tag:noindex
X-PUBLISHED-TTL:PT1H
BEGIN:VTIMEZONE
TZID:UTC
BEGIN:STANDARD
TZOFFSETFROM:+0000
TZOFFSETTO:+0000
TZNAME:UTC
DTSTART:20220101T000000
END:STANDARD
END:VTIMEZONE
BEGIN:VEVENT
DTSTART;VALUE=DATE:20220708
DTEND;VALUE=DATE:20220709
DTSTAMP:20260422T151505
CREATED:20220720T044136Z
LAST-MODIFIED:20220722T081023Z
UID:54270-1657238400-1657324799@www.apo-tokyo.org
SUMMARY:Agritech Innovations
DESCRIPTION:This P-Talk highlights recent trends in agritech industries and problems agritech players are trying to solve by adopting innovative technologies. Hemendra Mathur\, Consultant\, Delhi\, India\, explains different agritech solutions available to farmers on market linkages\, agri-fintech\, data and advisory services\, mechanization\, controlled-environment agriculture and e-commerce for agri-inputs. He also focuses on enabling ecosystems\, key learning points from agri-entrepreneurs\, and requirements for their adoption to increase productivity and farmers’ incomes in APO member economies. \nPlease click here to watch. \nSubscribe to our APO YouTube channel for more videos and updates on our activities. \nFor any inquiries\, please contact: p-talk@apo-tokyo.org.
URL:https://www.apo-tokyo.org/event/agritech-innovations/
LOCATION:APO Secretariat
CATEGORIES:P-Talks
ATTACH;FMTTYPE=image/png:https://www.apo-tokyo.org/wp-content/uploads/2022/07/2107-APOS-7-610x344-1.png
END:VEVENT
BEGIN:VEVENT
DTSTART;VALUE=DATE:20220712
DTEND;VALUE=DATE:20220713
DTSTAMP:20260422T151505
CREATED:20220720T044606Z
LAST-MODIFIED:20220721T075940Z
UID:54273-1657584000-1657670399@www.apo-tokyo.org
SUMMARY:Productive\, Climate-smart Agriculture
DESCRIPTION:Climate-smart agriculture (CSA) is an approach to transform agrifood systems toward green\, climate change-resilient practices. In this P-talk\, Imelda Bacudo\, Co-Chair\, Global Alliance for Climate-Smart\, UN FAO\, will share how CSA could enable achieving triple goals: sustainably increasing agricultural productivity and incomes; adapting and building resilience to climate change: and reducing and/or removing greenhouse gas emissions where possible. \nPlease click here to watch. \nSubscribe to our APO YouTube channel for more videos and updates on our activities. \nFor any inquiries\, please write to: p-talk@apo-tokyo.org.
URL:https://www.apo-tokyo.org/event/productive-climate-smart-agriculture/
LOCATION:APO Secretariat
CATEGORIES:P-Talks
ATTACH;FMTTYPE=image/png:https://www.apo-tokyo.org/wp-content/uploads/2022/07/2105-APOS-7-610x344-1.png
END:VEVENT
BEGIN:VEVENT
DTSTART;VALUE=DATE:20220719
DTEND;VALUE=DATE:20220720
DTSTAMP:20260422T151505
CREATED:20220720T044859Z
LAST-MODIFIED:20220721T075652Z
UID:54276-1658188800-1658275199@www.apo-tokyo.org
SUMMARY:Genome-edited Tomatoes
DESCRIPTION:Genome-editing technology can add value to crops and promote productivity in agriculture. Genome-edited tomatoes\, with about five times the gamma aminobutyric acid (GABA) level of traditional ones\, are now grown commercially in Japan. GABA reduces human blood pressure and induces relaxation. After government approval in May 2021\, Tokyo-based Sanatech Seed Company has ventured into this business. Its Chief Technology Officer Professor Hiroshi Ezura shares the story of its journey. \nPlease click here to watch. \nSubscribe to our APO YouTube channel for more videos and updates on our activities. \nFor any inquiries\, please write to: p-talk@apo-tokyo.org.
URL:https://www.apo-tokyo.org/event/genome-edited-tomatoes/
LOCATION:APO Secretariat
CATEGORIES:P-Talks
ATTACH;FMTTYPE=image/png:https://www.apo-tokyo.org/wp-content/uploads/2022/07/APO_P-Innovator_0531-610x343-1.png
END:VEVENT
BEGIN:VEVENT
DTSTART;VALUE=DATE:20220728
DTEND;VALUE=DATE:20220729
DTSTAMP:20260422T151505
CREATED:20220729T062349Z
LAST-MODIFIED:20220730T054352Z
UID:54404-1658966400-1659052799@www.apo-tokyo.org
SUMMARY:Overcoming the Middle-income Trap
DESCRIPTION:This P-Talk highlights the challenges that middle-income APO members may encounter during their development process toward the higher-income ranks.\n\n\nDr. Kenichi Ohno shares insights into patterns of productivity convergence and signs of the middle-income trap. Examples of industrial policies and strategies to avoid the middle-income trap are elaborated. Policy implications for APO middle-income members to foster labor productivity growth and catch up with high-income economies are presented. \nPlease click here to watch. \nSubscribe to our APO YouTube channel for more videos and updates on our activities. \nFor any inquiries\, please write to: p-talk@apo-tokyo.org.
URL:https://www.apo-tokyo.org/event/overcoming-the-middle-income-trap/
LOCATION:APO Secretariat
CATEGORIES:P-Talks
ATTACH;FMTTYPE=image/png:https://www.apo-tokyo.org/wp-content/uploads/2022/07/2022-HN-CY_r1-610x343-2.png
END:VEVENT
END:VCALENDAR