BEGIN:VCALENDAR
VERSION:2.0
PRODID:-//APO - ECPv6.14.2//NONSGML v1.0//EN
CALSCALE:GREGORIAN
METHOD:PUBLISH
X-WR-CALNAME:APO
X-ORIGINAL-URL:https://www.apo-tokyo.org
X-WR-CALDESC:Events for APO
REFRESH-INTERVAL;VALUE=DURATION:PT1H
X-Robots-Tag:noindex
X-PUBLISHED-TTL:PT1H
BEGIN:VTIMEZONE
TZID:UTC
BEGIN:STANDARD
TZOFFSETFROM:+0000
TZOFFSETTO:+0000
TZNAME:UTC
DTSTART:20220101T000000
END:STANDARD
END:VTIMEZONE
BEGIN:VEVENT
DTSTART;VALUE=DATE:20221201
DTEND;VALUE=DATE:20221202
DTSTAMP:20260422T064027
CREATED:20221125T023655Z
LAST-MODIFIED:20221125T023922Z
UID:55859-1669852800-1669939199@www.apo-tokyo.org
SUMMARY:Site Management Robots
DESCRIPTION:log build Inc. is a Japanese company that develops remotely controlled robots for job site management productivity. The robot’s capabilities for high-resolution photography\, audio conversation\, and visual display enable real-time viewing and sharing of job site information. Site supervisors are likely to be more productive and save time in the future\, as they will be able to monitor their jobs from anywhere using their smartphones or PCs. In addition\, two other products\, Log Walk and Log Meet\, were also introduced. \nPlease click here to watch. \nSubscribe to our APO YouTube channel for more videos and updates on our activities. \nFor any inquiries\, please write to: p-talk@apo-tokyo.org.
URL:https://www.apo-tokyo.org/event/site-management-robots/
LOCATION:APO Secretariat
CATEGORIES:P-Talks
ATTACH;FMTTYPE=image/png:https://www.apo-tokyo.org/wp-content/uploads/2022/11/Banner_P-Innovator-1-Dec-2022.png
END:VEVENT
BEGIN:VEVENT
DTSTART;VALUE=DATE:20221206
DTEND;VALUE=DATE:20221207
DTSTAMP:20260422T064027
CREATED:20221130T070024Z
LAST-MODIFIED:20221130T071355Z
UID:55903-1670284800-1670371199@www.apo-tokyo.org
SUMMARY:Business Analytics for SME Productivity
DESCRIPTION:This P-Talk provides insights into how SMEs can achieve productivity improvement and business transformation through the adoption of business analytics\, the process of using quantitative methods to derive meaning from data to make informed business decisions. \nDr. Hamed Fazlollahtabar\, Associate Professor\, Department of Industrial Engineering\, Damghan University\, I.R. Iran\, explains and highlights the roles of business analytics in business transformation and productivity improvement in SMEs. The talk also shares success stories from I.R. Iran’s SMEs and provides policy recommendations on how to foster the use of business analytics to maximize its benefits to productivity\, especially in the digital era. \nPlease click here to watch. \nSubscribe to our APO YouTube channel for more videos and updates on our activities. \nFor any inquiries\, please write to: p-talk@apo-tokyo.org.
URL:https://www.apo-tokyo.org/event/business-analytics-for-sme-productivity/
LOCATION:APO Secretariat
CATEGORIES:P-Talks
ATTACH;FMTTYPE=image/png:https://www.apo-tokyo.org/wp-content/uploads/2022/11/Banner-P-Talk-6-Dec_final.png
END:VEVENT
BEGIN:VEVENT
DTSTART;VALUE=DATE:20221208
DTEND;VALUE=DATE:20221209
DTSTAMP:20260422T064027
CREATED:20221129T032420Z
LAST-MODIFIED:20221129T032420Z
UID:55881-1670457600-1670543999@www.apo-tokyo.org
SUMMARY:Interactive Networking in Agribusiness
DESCRIPTION:This P-Talk underlines the challenges and opportunities for traditional agrifood-sector enterprises to enhance food security. The interactive networking model in agribusiness highlights an approach different from the linear approach. Dr. Coskun Serefoglu\, Agri-Environmental Economist\, Ankara Development Agency\, shares insights from the TAGTECH program in Turkiye which brings together experts\, decisionmakers\, and innovators across the entire value chain for digital transformation of the agrifood sector. This innovation accelerator program aims for a groundbreaking transformation model in the food and agriculture industry. \nPlease click here to watch. \nSubscribe to our APO YouTube channel for more videos and updates on our activities. \nFor any inquiries\, please write to: p-talk@apo-tokyo.org.
URL:https://www.apo-tokyo.org/event/interactive-networking-in-agribusiness/
LOCATION:APO Secretariat
CATEGORIES:P-Talks
ATTACH;FMTTYPE=image/png:https://www.apo-tokyo.org/wp-content/uploads/2022/11/Banner_8-Dec-P-Talk.png
END:VEVENT
BEGIN:VEVENT
DTSTART;VALUE=DATE:20221215
DTEND;VALUE=DATE:20221216
DTSTAMP:20260422T064027
CREATED:20221213T005559Z
LAST-MODIFIED:20221213T010724Z
UID:55992-1671062400-1671148799@www.apo-tokyo.org
SUMMARY:Inclusive Rural Development
DESCRIPTION:This P-Talk highlights the challenges and opportunities for inclusive rural development and how it could be enhanced. Dr. Chang-gil Kim discusses the importance of the integrated rural development approach with economic\, social\, and political dimensions and shares good practices in the ROK. Inclusive rural development involves changes in socioeconomic aspects in the quality of life as well as reductions in gender and income inequalities Through inclusive rural development\, productivity enhancement can be achieved along with inclusive engagement and shared prosperity in rural economies. \nPlease click here to watch. \nSubscribe to our APO YouTube channel for more videos and updates on our activities. \nFor any inquiries\, please write to: p-talk@apo-tokyo.org.
URL:https://www.apo-tokyo.org/event/inclusive-rural-development/
LOCATION:APO Secretariat
CATEGORIES:P-Talks
ATTACH;FMTTYPE=image/png:https://www.apo-tokyo.org/wp-content/uploads/2022/12/Banner_P-Talk-15-Dec.png
END:VEVENT
BEGIN:VEVENT
DTSTART;VALUE=DATE:20221216
DTEND;VALUE=DATE:20221217
DTSTAMP:20260422T064027
CREATED:20221212T070150Z
LAST-MODIFIED:20221212T070150Z
UID:55989-1671148800-1671235199@www.apo-tokyo.org
SUMMARY:Key Insights from the APO Productivity Databook 2022
DESCRIPTION:This P-Talk highlights the key insights from the APO Productivity Databook 2022. This hallmark annual publication is part of ongoing efforts to support APO member economies in coping with current challenges\, including postpandemic revival\, and contribute to their socioeconomic development through enhancing productivity. Dr. Vu Minh Khuong\, Associate Professor\, Lee Kuan Yew School of Public Policy\, Singapore\, and Sarimah Binti Talib\, Vice President\, Sustainability & External Relations\, Bumi Armada\, Malaysia\, discuss the productivity performance of APO member economies in 2022\, particularly when many countries were reaching the endemic stage\, and what we can look forward to in 2023 based on the key findings from the APO Productivity Databook 2022. \nPlease click here to watch. \nSubscribe to our APO YouTube channel for more videos and updates on our activities. \nFor any inquiries\, please write to: p-talk@apo-tokyo.org.
URL:https://www.apo-tokyo.org/event/key-insights-from-the-apo-productivity-databook-2022/
LOCATION:APO Secretariat
CATEGORIES:P-Talks
ATTACH;FMTTYPE=image/png:https://www.apo-tokyo.org/wp-content/uploads/2022/12/Banner-P-Talk-16-Dec.png
END:VEVENT
END:VCALENDAR