BEGIN:VCALENDAR
VERSION:2.0
PRODID:-//APO - ECPv6.14.2//NONSGML v1.0//EN
CALSCALE:GREGORIAN
METHOD:PUBLISH
X-ORIGINAL-URL:https://www.apo-tokyo.org
X-WR-CALDESC:Events for APO
REFRESH-INTERVAL;VALUE=DURATION:PT1H
X-Robots-Tag:noindex
X-PUBLISHED-TTL:PT1H
BEGIN:VTIMEZONE
TZID:UTC
BEGIN:STANDARD
TZOFFSETFROM:+0000
TZOFFSETTO:+0000
TZNAME:UTC
DTSTART:20230101T000000
END:STANDARD
END:VTIMEZONE
BEGIN:VEVENT
DTSTART;VALUE=DATE:20230209
DTEND;VALUE=DATE:20230210
DTSTAMP:20260422T025027
CREATED:20230130T014816Z
LAST-MODIFIED:20230130T020157Z
UID:56266-1675900800-1675987199@www.apo-tokyo.org
SUMMARY:Demographic Challenges in the Asian Region
DESCRIPTION:This P-Talk examines the geographic disparities in demographic trends and patterns in the Asian region\, including differentials in population growth rates; levels of urbanization\, migration\, and fertility; and changing population structures and their overall implications for the productivity of national economies. \nDr. Grace Cruz\, Director of the Population Institute of the University of the Philippines\, explains these diverse challenges in the region and provides specific country profiles demonstrating the interlinkages among population and development factors. Discussions cover contemporary population/development issues including job structures\, employment\, female labor force\, aging of the population and retirement\, and the youth bulge. \nPlease click here to watch. \nSubscribe to our APO YouTube channel for more videos and updates on our activities. \nFor any inquiries\, please write to: p-talk@apo-tokyo.org.
URL:https://www.apo-tokyo.org/event/demographic-challenges-in-the-asian-region/
LOCATION:APO Secretariat
CATEGORIES:P-Talks
ATTACH;FMTTYPE=image/png:https://www.apo-tokyo.org/wp-content/uploads/2023/01/Banner_P-Talk-9-Feb.png
END:VEVENT
BEGIN:VEVENT
DTSTART;VALUE=DATE:20230228
DTEND;VALUE=DATE:20230301
DTSTAMP:20260422T025027
CREATED:20230224T014022Z
LAST-MODIFIED:20230224T014022Z
UID:56379-1677542400-1677628799@www.apo-tokyo.org
SUMMARY:Japan’s Resilient Agriculture
DESCRIPTION:In order to build resilient agriculture\, we need to reduce environmental negative impacts while increasing food production for growing populations. This requires long-term productivity improvement. \nThis P-Talk highlights Japan’s national strategy to achieve both increased productivity potentials and sustainability in the agriculture\, forestry and fisheries through innovation. Keiichi Sugita\, Director for International Agricultural Organizations\, International Strategy Division\, Ministry of Agriculture\, Forestry and Fisheries\, Japan\, introduces Japan’s strategy called MeaDRI for sustainable and resilient food systems. \nPlease click here to watch. \nSubscribe to our APO YouTube channel for more videos and updates on our activities. \nFor any inquiries\, please write to: p-talk@apo-tokyo.org.
URL:https://www.apo-tokyo.org/event/japans-resilient-agriculture/
LOCATION:APO Secretariat
CATEGORIES:P-Talks
ATTACH;FMTTYPE=image/png:https://www.apo-tokyo.org/wp-content/uploads/2023/02/1358-APOS-2-1.png
END:VEVENT
END:VCALENDAR