BEGIN:VCALENDAR
VERSION:2.0
PRODID:-//APO - ECPv6.14.2//NONSGML v1.0//EN
CALSCALE:GREGORIAN
METHOD:PUBLISH
X-ORIGINAL-URL:https://www.apo-tokyo.org
X-WR-CALDESC:Events for APO
REFRESH-INTERVAL;VALUE=DURATION:PT1H
X-Robots-Tag:noindex
X-PUBLISHED-TTL:PT1H
BEGIN:VTIMEZONE
TZID:UTC
BEGIN:STANDARD
TZOFFSETFROM:+0000
TZOFFSETTO:+0000
TZNAME:UTC
DTSTART:20230101T000000
END:STANDARD
END:VTIMEZONE
BEGIN:VEVENT
DTSTART;VALUE=DATE:20230404
DTEND;VALUE=DATE:20230405
DTSTAMP:20260421T233711
CREATED:20230330T080521Z
LAST-MODIFIED:20230331T002146Z
UID:56696-1680566400-1680652799@www.apo-tokyo.org
SUMMARY:Unlocking the Power of Innovation for Productivity
DESCRIPTION:This P-Talk highlights the critical importance of innovation for the economic future of Asia. Raouti Chehih\, Founder\, Tansley\, UAE\, explains the current state of innovation in Asia\, including examples of successful startups\, emerging technologies\, and challenges in innovation such as limited access to capital\, talent shortages\, and regulatory barriers. He also delves into the benefits of innovation\, including increased productivity\, job creation\, and improved quality of life. \nPlease click here to watch. \nSubscribe to our APO YouTube channel for more videos and updates on our activities. \nFor any inquiries\, please write to: p-talk@apo-tokyo.org.
URL:https://www.apo-tokyo.org/event/unlocking-the-power-of-innovation-for-productivity/
LOCATION:APO Secretariat
CATEGORIES:P-Talks
ATTACH;FMTTYPE=image/png:https://www.apo-tokyo.org/wp-content/uploads/2023/03/0404-Banner_r.png
END:VEVENT
BEGIN:VEVENT
DTSTART;VALUE=DATE:20230425
DTEND;VALUE=DATE:20230426
DTSTAMP:20260421T233711
CREATED:20230411T004630Z
LAST-MODIFIED:20230411T004630Z
UID:56743-1682380800-1682467199@www.apo-tokyo.org
SUMMARY:Rapid Cost Reduction Approaches for SMEs
DESCRIPTION:Limited capital is one of the most significant constraints faced by SMEs which can prevent them from reaching their development goals. To overcome this challenge\, it is important for SMEs to optimize costs in addition to seeking financial resources. This can help them maximize returns\, remain competitive\, and achieve long-term success. This P-Talk explores innovative approaches that SMEs can use for rapid\, efficient cost reductions to increase productivity and profitability. \nAlex Yap Yun Fung\, Director\, EcoLean Consultancy Sdn. Bhd.\, Malaysia\, shares insights on modified versions of the material flow cost accounting (MFCA) and value stream mapping (VSM) techniques that help SMEs identify and eliminate unnecessary expenses to become more productive and profitable. \nPlease click here to watch. \nSubscribe to our APO YouTube channel for more videos and updates on our activities. \nFor any inquiries\, please write to: p-talk@apo-tokyo.org.
URL:https://www.apo-tokyo.org/event/rapid-cost-reduction-approaches-for-smes/
LOCATION:APO Secretariat
CATEGORIES:P-Talks
ATTACH;FMTTYPE=image/png:https://www.apo-tokyo.org/wp-content/uploads/2023/04/Banner_25-April-P-Talk.png
END:VEVENT
END:VCALENDAR