Workbook
Name Billion_US: #REF!
Name NewHoursData: #REF!
Name NewHoursYears: #REF!

Sheet Information
A1: APO Productivity Database 2026
A2: Ver. 1 (September 18, 2026)
A3: APO Productivity Database provides the harmonized productivity accounts for Asian countries, developed by a joint project of APO (Asian Productivity Organization) and KEO (Keio Economic Observatory), Keio University, Tokyo. See Chapter 8 of APO Productivity Databook 2026 for the methodological notes. The data is updated as often as possible.
A4: Country | E4: abbr
A5: Afghanistan | D5: Islamic Emirate of Afghanistan | E5: AFG
A6: Bangladesh | D6: People's Republic of Bangladesh | E6: BAN
A7: Bhutan* | D7: Kingdom of Bhutan | E7: BTN
A8: Brunei* | D8: Negara Brunei Darussalam | E8: BRN
A9: Cambodia | D9: Kingdom of Cambodia | E9: CAM
A10: China* | D10: People's Republic of China | E10: CHN
A11: Taiwan | D11: Republic of China | E11: ROC
A12: Fiji | D12: Republic of the Fiji Islands | E12: FJI
A13: Hong Kong | D13: Hong Kong Special Administrative Region of the People's Republic of China (Area of special sovereignty) | E13: HKG
A14: India | D14: Republic of India | E14: IND
A15: Indonesia | D15: Republic of Indonesia | E15: IDN
A16: Iran | D16: Islamic Republic of Iran | E16: IRN
... A32: Vietnam | D32: the Socialist Republic of Vietnam | E32: VIE
B33: The countries with "*" represent the non-member counrties.

Sheet AFG
A1: Afghanistan
A2: =Information!A1&" "&Information!A2 -> APO Productivity Database 2026 Ver. 1 (September 18, 2026)
A4: Group | B4: Code | C4: Variable | D4: Unit | E4: 1970 | F4: =E4+1 -> 1971 | G4: =F4+1 -> 1972 | H4: =G4+1 -> 1973 | I4: =H4+1 -> 1974 | J4: =I4+1 -> 1975 | K4: =J4+1 -> 1976 | L4: =K4+1 -> 1977 | M4: =L4+1 -> 1978 | ... BG4: =BF4+1 -> 2024 | BH4: Note
A5: Economy-wide data
A6: 1a. GDP at Current Prices
B7: 11100 | C7: Private consumption | D7: million. Afs | E7: 70.958315 | F7: 76.646271 | G7: 64.802273 | H7: 68.716683 | I7: 83.25823 | J7: 91.180392 | K7: 94.339098 | L7: 112.42775 | M7: 123.42177 | N7: 135.18324 | O7: 136.37091 | P7: 147.65118 | Q7: 149.78539 | R7: 149.16943 | S7: 148.61475 | T7: 147.07774 | U7: 147.7994 | V7: 128.91306 | W7: 119.09355 | X7: 149.45844 | Y7: 162.37954 | Z7: 154.20559 | AA7: 165.18246 | AB7: 130.42127 | AC7: 895.20612 | AD7: 2763.6085 | AE7: 8235.1234 | AF7: 9811.1433 | AG7: 9730.0251 | AH7: 145230.79 | AI7: 196700.95 | AJ7: 205657.18 | AK7: 225164 | AL7: 286426.84 | AM7: 290709.23 | AN7: 330582.52 | AO7: 344267.82 | AP7: 473475.87 | AQ7: 450500.4 | AR7: 495746.46 | AS7: 596540.89 | AT7: 755341.92 | AU7: 942929.85 | AV7: 973762.87 | AW7: 905379.49 | AX7: 915260.44 | AY7: 980420.32 | AZ7: 946460.57 | BA7: 1175214.9 | BB7: 1419073.2 | BC7: 1416826 | BD7: 1107016 | BE7: 1252785 | BF7: 1324850.4 | BG7: 1409522.5 | BH7: Based on national accounts in each country, including our adjustments.
B8: 11101 | C8: …of which, Imputed rent of owner cccupied housings (OOH) | D8: million. Afs | BH8: Based on national accounts in each country, including our adjustments.
B9: 11200 | C9: Government consumption | D9: million. Afs | E9: 5.130138 | F9: 5.541358 | G9: 4.685217 | H9: 4.968352 | I9: 6.019998 | J9: 6.593011 | K9: 6.822215 | L9: 8.130031 | M9: 8.925508 | N9: 9.735617 | O9: 9.72195 | P9: 10.373969 | Q9: 10.496401 | R9: 10.382853 | S9: 10.256212 | T9: 10.141256 | U9: 10.138031 | V9: 8.814587 | W9: 8.13353 | X9: 10.203569 | Y9: 11.056118 | Z9: 10.629772 | AA9: 11.513247 | AB9: 9.173013 | AC9: 63.44343 | AD9: 197.59376 | AE9: 591.26346 | AF9: 707.41105 | AG9: 710.97035 | AH9: 10515.705 | AI9: 14314.01 | AJ9: 15323.823 | AK9: 15514 | AL9: 21683.378 | AM9: 26534.554 | AN9: 33115.1 | AO9: 41017.731 | AP9: 57024.592 | AQ9: 53661.165 | AR9: 80020.053 | AS9: 126228.65 | AT9: 156355.86 | AU9: 219333.05 | AV9: 239414.81 | AW9: 248772.3 | AX9: 249787.76 | AY9: 281336.67 | AZ9: 273462.93 | BA9: 263688.46 | BB9: 323478 | BC9: 339369 | BD9: 266029 | BE9: 280374 | BF9: 286589.16 | BG9: 298143.35 | BH9: Based on national accounts in each country, including our adjustments.
B10: 11300 | C10: Gross fixed capital formation (GFCF) | D10: million. Afs | E10: 4.3174186 | F10: 4.5186477 | G10: 4.7199899 | H10: 5.7245734 | I10: 8.5369996 | J10: 10.445989 | K10: 15.769753 | L10: 16.575436 | M10: 20.695485 | N10: 21.072963 | O10: 19.379426 | P10: 19.076999 | Q10: 18.652471 | R10: 17.437213 | S10: 16.047993 | T10: 15.685818 | U10: 14.918128 | V10: 12.576787 | W10: 11.460127 | X10: 14.314994 | Y10: 15.086014 | Z10: 15.291586 | AA10: 17.192717 | AB10: 14.079385 | AC10: 99.169104 | AD10: 312.34245 | AE10: 943.85527 | AF10: 1135.8546 | AG10: 1134.0633 | AH10: 16962.266 | AI10: 23013.578 | AJ10: 23285.509 | AK10: 23069.407 | AL10: 26312.581 | AM10: 41625.954 | AN10: 59415.624 | AO10: 72185.164 | AP10: 74968.789 | AQ10: 65242.4 | AR10: 77968.332 | AS10: 93244.915 | AT10: 112166.57 | AU10: 155984.07 | AV10: 166777.22 | AW10: 162564.18 | AX10: 167928.1 | AY10: 155657.31 | AZ10: 175659.74 | BA10: 203454.21 | BB10: 192310.62 | BC10: 178753.52 | BD10: 165432.95 | BE10: 217793.81 | BF10: 209754.5 | BG10: 218872.9 | BH10: Based on national accounts in each country, including our adjustments and estimates.
B11: 11400 | C11: Net increase in stocks | D11: million. Afs | BH11: Based on national accounts in each country, including our adjustments.
B12: 11500 | C12: Exports of goods and services | D12: million. Afs | E12: 7.699731 | F12: 8.999685 | G12: 10.599629 | H12: 10.099647 | I12: 13.599525 | J12: 13.499528 | K12: 15.199469 | L12: 15.499459 | M12: 16.099437 | N12: 19.255816 | O12: 18.434077 | P12: 19.634171 | Q12: 20.175791 | R12: 19.7652 | S12: 19.549842 | T12: 19.37647 | U12: 19.331243 | V12: 16.816985 | W12: 15.522766 | X12: 19.464843 | Y12: 21.094894 | Z12: 23.371848 | AA12: 28.387326 | AB12: 24.892318 | AC12: 186.8049 | AD12: 622.94843 | AE12: 1985.2329 | AF12: 2509.5834 | AG12: 2625.248 | AH12: 41044.446 | AI12: 58015.47 | AJ12: 58011.226 | AK12: 60068 | AL12: 99150.342 | AM12: 86424.222 | AN12: 92952.723 | AO12: 105289.23 | AP12: 106013.89 | AQ12: 107381.13 | AR12: 121123.95 | AS12: 108849.01 | AT12: 94212.885 | AU12: 127482.26 | AV12: 167793.21 | AW12: 177081.13 | AX12: 199978.93 | AY12: 203769.21 | AZ12: 302101.36 | BA12: 221644.47 | BB12: 179251.01 | BC12: 159956 | BD12: 179445 | BE12: 235897 | BF12: 219324 | BG12: 198155.94 | BH12: Based on national accounts in each country, including our adjustments.
B13: 11600 | C13: (less) Imports of goods and services | D13: million. Afs | E13: 9.399672 | F13: 13.299535 | G13: 12.999545 | H13: 11.499598 | I13: 14.399497 | J13: 15.199469 | K13: 17.099403 | L13: 19.699312 | M13: 20.59928 | N13: 23.483416 | O13: 23.15071 | P13: 24.556802 | Q13: 25.053199 | R13: 24.694888 | S13: 24.383868 | T13: 24.145573 | U13: 24.117678 | V13: 20.97075 | W13: 19.355472 | X13: 24.275953 | Y13: 26.305868 | Z13: 34.428287 | AA13: 46.39119 | AB13: 43.68411 | AC13: 345.34707 | AD13: 1198.3461 | AE13: 3940.6106 | AF13: 5109.54 | AG13: 5458.3828 | AH13: 86857.488 | AI13: 124630.68 | AJ13: 130129.56 | AK13: 121090 | AL13: 194461.3 | AM13: 181628.21 | AN13: 195140.24 | AO13: 198098.65 | AP13: 211259.11 | AQ13: 158739.52 | AR13: 173445.9 | AS13: 220552.29 | AT13: 278971.61 | AU13: 435231.86 | AV13: 444066.96 | AW13: 374936.34 | AX13: 387458.68 | AY13: 396456.83 | AZ13: 410197.09 | BA13: 533459.97 | BB13: 641451.88 | BC13: 557025 | BD13: 463804 | BE13: 699545 | BF13: 685780 | BG13: 858865.22 | BH13: Based on national accounts in each country, including our adjustments.
B14: 11700 | C14: GDP at market price | D14: million. Afs | E14: 78.70593 | F14: 82.406427 | G14: 71.807564 | H14: 78.009657 | I14: 97.015256 | J14: 106.51945 | K14: 115.03113 | L14: 132.93336 | M14: 148.54292 | N14: 161.76422 | O14: 160.75565 | P14: 172.17952 | Q14: 174.05685 | R14: 172.05981 | S14: 170.08493 | T14: 168.13571 | U14: 168.06912 | V14: 146.15067 | W14: 134.8545 | X14: 169.1659 | Y14: 183.31069 | Z14: 169.07051 | AA14: 175.88456 | AB14: 134.88188 | AC14: 899.27648 | AD14: 2698.1471 | AE14: 7814.8643 | AF14: 9054.4524 | AG14: 8741.924 | AH14: 126895.72 | AI14: 167413.33 | AJ14: 172148.17 | AK14: 202725.41 | AL14: 239111.84 | AM14: 263665.76 | AN14: 320925.73 | AO14: 364661.29 | AP14: 500224.04 | AQ14: 518045.58 | AR14: 601412.89 | AS14: 704311.18 | AT14: 839105.62 | AU14: 1010497.4 | AV14: 1103681.2 | AW14: 1118860.7 | AX14: 1145496.5 | AY14: 1224726.7 | AZ14: 1287487.5 | BA14: 1330542.1 | BB14: 1472660.9 | BC14: 1537879.5 | BD14: 1254118.9 | BE14: 1287304.8 | BF14: 1354738.1 | BG14: 1265829.5 | BH14: Based on national accounts in each country, including our adjustments.
B15: 11800 | C15: (less) Net indirect taxes on products | D15: million. Afs | E15: 0.25706287 | F15: 0.34444748 | G15: 0.32847195 | H15: 0.29981281 | I15: 0.37315678 | J15: 0.39656213 | K15: 0.43944856 | L15: 0.50930309 | M15: 0.53732275 | N15: 0.60808924 | O15: 0.60207373 | P15: 0.6411235 | Q15: 0.65336094 | R15: 0.64527039 | S15: 0.6382675 | T15: 0.63191223 | U15: 0.63192539 | V15: 0.54978821 | W15: 0.50750511 | X15: 0.6365539 | Y15: 0.69013311 | Z15: 0.85587283 | AA15: 1.1186795 | AB15: 1.0330771 | AC15: 8.0551304 | AD15: 27.673776 | AE15: 90.309571 | AF15: 116.40451 | AG15: 123.74471 | AH15: 1961.0102 | AI15: 2804.6171 | AJ15: 2928.6761 | AK15: 2752.6659 | AL15: 5601.3659 | AM15: 8344.6446 | AN15: 10730.318 | AO15: 16483.646 | AP15: 18720.882 | AQ15: 19104.573 | AR15: 28730.336 | AS15: 44313.23 | AT15: 51885.752 | AU15: 61942.688 | AV15: 66828.783 | AW15: 60350.339 | AX15: 70160.733 | AY15: 75645.552 | AZ15: 87705.956 | BA15: 92687.819 | BB15: 92450.998 | BC15: 90208.867 | BD15: 86095.009 | BE15: 90905.668 | BF15: 67533.658 | BG15: 109126.68 | BH15: Based on national accounts in each country, including our adjustments.
B16: 11900 | C16: GDP at basic price | D16: million. Afs | E16: 78.448867 | F16: 82.061979 | G16: 71.479092 | H16: 77.709845 | I16: 96.642099 | J16: 106.12289 | K16: 114.59168 | L16: 132.42406 | M16: 148.00559 | N16: 161.15613 | O16: 160.15358 | P16: 171.53839 | Q16: 173.40349 | R16: 171.41454 | S16: 169.44666 | T16: 167.5038 | U16: 167.4372 | V16: 145.60089 | W16: 134.34699 | X16: 168.52934 | Y16: 182.62056 | Z16: 168.21464 | AA16: 174.76588 | AB16: 133.8488 | AC16: 891.22135 | AD16: 2670.4734 | AE16: 7724.5548 | AF16: 8938.0478 | AG16: 8618.1793 | AH16: 124934.71 | AI16: 164608.71 | AJ16: 169219.5 | AK16: 199972.74 | AL16: 233510.47 | AM16: 255321.11 | AN16: 310195.41 | AO16: 348177.64 | AP16: 481503.15 | AQ16: 498941.01 | AR16: 572682.56 | AS16: 659997.95 | AT16: 787219.87 | AU16: 948554.68 | AV16: 1036852.4 | AW16: 1058510.4 | AX16: 1075335.8 | AY16: 1149081.1 | AZ16: 1199781.6 | BA16: 1237854.3 | BB16: 1380209.9 | BC16: 1447670.7 | BD16: 1168023.9 | BE16: 1196399.1 | BF16: 1287204.4 | BG16: 1156702.8 | BH16: Based on national accounts in each country, including our adjustments.
A17: 1b. GDP at Current Prices in US dollars, using annual average exchange rate
B18: 12100 | C18: Private consumption | D18: billions of US dollars | E18: 1.5769066 | F18: 1.70331 | G18: 1.4401008 | H18: 1.5270908 | I18: 1.8502476 | J18: 2.0263018 | K18: 2.0964977 | L18: 2.4984818 | M18: 2.7428018 | N18: 3.0912626 | O18: 3.0902671 | P18: 2.9840637 | Q18: 2.9602085 | R18: 2.9480353 | S18: 2.9370733 | T18: 2.9066974 | U18: 2.9209595 | V18: 2.5477089 | W18: 2.3536458 | X18: 2.9537472 | Y18: 3.2091068 | Z18: 3.0475651 | AA18: 3.264501 | AB18: 2.5775156 | AC18: 2.1058722 | AD18: 3.3163302 | AE18: 3.2940197 | AF18: 3.2703484 | AG18: 3.243285 | AH18: 3.1152349 | AI18: 4.1535266 | AJ18: 4.3296235 | AK18: 4.7640649 | AL18: 5.8738856 | AM18: 6.0760233 | AN18: 6.6791638 | AO18: 6.8956543 | AP18: 9.4767164 | AQ18: 8.9652507 | AR18: 9.8508983 | AS18: 12.841965 | AT18: 16.158081 | AU18: 18.517359 | AV18: 17.584089 | AW18: 15.81518 | AX18: 14.969065 | AY18: 14.446396 | AZ18: 13.913033 | BA18: 16.303579 | BB18: 18.254574 | BC18: 18.445004 | BD18: 13.414131 | BE18: 13.836409 | BF18: 16.024561 | BG18: 20.124297 | BH18: Based on national accounts in each country, including our adjustments, and the adjusted exchange rates of the Analysis of Main Aggregate Rates by United Nations Statistics Division.
B19: 12101 | C19: …of which, Imputed rent of owner cccupied housings (OOH) | D19: billions of US dollars | BH19: Based on national accounts in each country, including our adjustments, and the adjusted exchange rates of the Analysis of Main Aggregate Rates by United Nations Statistics Division.
B20: 12200 | C20: Government consumption | D20: billions of US dollars | E20: 0.11400705 | F20: 0.12314559 | G20: 0.10411957 | H20: 0.11041168 | I20: 0.13378241 | J20: 0.14651648 | K20: 0.15161008 | L20: 0.18067367 | M20: 0.19835156 | N20: 0.22262633 | O20: 0.22030668 | P20: 0.20966026 | Q20: 0.20744036 | R20: 0.20519631 | S20: 0.20269351 | T20: 0.20042164 | U20: 0.20035791 | V20: 0.17420268 | W20: 0.16074295 | X20: 0.20165313 | Y20: 0.21850206 | Z20: 0.21007618 | AA20: 0.2275363 | AB20: 0.18128626 | AC20: 0.14924357 | AD20: 0.23711252 | AE20: 0.23650325 | AF20: 0.23580133 | AG20: 0.23698597 | AH20: 0.22556437 | AI20: 0.30225388 | AJ20: 0.32260671 | AK20: 0.32824831 | AL20: 0.44467091 | AM20: 0.55459047 | AN20: 0.66906494 | AO20: 0.82158155 | AP20: 1.1413589 | AQ20: 1.0678921 | AR20: 1.5900656 | AS20: 2.7173727 | AT20: 3.3447243 | AU20: 4.3072864 | AV20: 4.3233229 | AW20: 4.3455574 | AX20: 4.0852735 | AY20: 4.1454678 | AZ20: 4.0199232 | BA20: 3.6581102 | BB20: 4.1611337 | BC20: 4.4180885 | BD20: 3.2235738 | BE20: 3.0965963 | BF20: 3.466403 | BG20: 4.2567076 | BH20: Based on national accounts in each country, including our adjustments, and the adjusted exchange rates of the Analysis of Main Aggregate Rates by United Nations Statistics Division.
B21: 12300 | C21: Gross fixed capital formation (GFCF) | D21: billions of US dollars | E21: 0.09594599 | F21: 0.1004179 | G21: 0.10489233 | H21: 0.12721719 | I21: 0.18971773 | J21: 0.23214121 | K21: 0.35045119 | L21: 0.3683559 | M21: 0.45991574 | N21: 0.48187972 | O21: 0.43915233 | P21: 0.38555045 | Q21: 0.36862877 | R21: 0.34461163 | S21: 0.31715649 | T21: 0.30999882 | U21: 0.29482696 | V21: 0.24855505 | W21: 0.2264865 | X21: 0.28290723 | Y21: 0.29814489 | Z21: 0.30220761 | AA21: 0.33977966 | AB21: 0.27825089 | AC21: 0.23328421 | AD21: 0.37481094 | AE21: 0.37753871 | AF21: 0.37861443 | AG21: 0.37801449 | AH21: 0.36384463 | AI21: 0.48595349 | AJ21: 0.49022109 | AK21: 0.48810712 | AL21: 0.53960408 | AM21: 0.87001113 | AN21: 1.2004467 | AO21: 1.4458625 | AP21: 1.5005156 | AQ21: 1.2983662 | AR21: 1.5492962 | AS21: 2.0073192 | AT21: 2.3994386 | AU21: 3.0632321 | AV21: 3.0116423 | AW21: 2.839673 | AX21: 2.7464604 | AY21: 2.2935949 | AZ21: 2.5822099 | BA21: 2.8224895 | BB21: 2.473832 | BC21: 2.3271096 | BD21: 2.0046135 | BE21: 2.4054281 | BF21: 2.5370591 | BG21: 3.1249329 | BH21: Based on national accounts in each country, including our adjustments and estimates, and the adjusted exchange rates of the Analysis of Main Aggregate Rates by United Nations Statistics Division.
B22: 12400 | C22: Net Increase in Stocks | D22: billions of US dollars | BH22: Based on national accounts in each country, including our adjustments, and the adjusted exchange rates of the Analysis of Main Aggregate Rates by United Nations Statistics Division.
B23: 12500 | C23: Exports of goods and services | D23: billions of US dollars | E23: 0.17111111 | F23: 0.19999999 | G23: 0.23555554 | H23: 0.22444445 | I23: 0.30222223 | J23: 0.3 | K23: 0.33777778 | L23: 0.34444446 | M23: 0.35777777 | N23: 0.44032665 | O23: 0.41773 | P23: 0.39681103 | Q23: 0.39873414 | R23: 0.39061963 | S23: 0.38636352 | T23: 0.38293718 | U23: 0.38204336 | V23: 0.33235407 | W23: 0.30677642 | X23: 0.38468369 | Y23: 0.41689839 | Z23: 0.46189783 | AA23: 0.56101872 | AB23: 0.49194688 | AC23: 0.43943761 | AD23: 0.74753811 | AE23: 0.79408599 | AF23: 0.83651943 | AG23: 0.87506734 | AH23: 0.88041309 | AI23: 1.2250515 | AJ23: 1.2212886 | AK23: 1.2709307 | AL23: 2.0333212 | AM23: 1.8063258 | AN23: 1.8780378 | AO23: 2.108934 | AP23: 2.1218897 | AQ23: 2.1369544 | AR23: 2.4068346 | AS23: 2.3432345 | AT23: 2.0153779 | AU23: 2.5035105 | AV23: 3.0299889 | AW23: 3.0932552 | AX23: 3.2706511 | AY23: 3.002519 | AZ23: 4.4409101 | BA23: 3.0748402 | BB23: 2.3058366 | BC23: 2.0823934 | BD23: 2.1744028 | BE23: 2.6053691 | BF23: 2.6528058 | BG23: 2.8291488 | BH23: Based on national accounts in each country, including our adjustments, and the adjusted exchange rates of the Analysis of Main Aggregate Rates by United Nations Statistics Division.
B24: 12600 | C24: (less) Imports of goods and services | D24: billions of US dollars | E24: 0.2088889 | F24: 0.29555555 | G24: 0.28888888 | H24: 0.25555555 | I24: 0.32000001 | J24: 0.33777778 | K24: 0.38000002 | L24: 0.43777779 | M24: 0.45777778 | N24: 0.53700004 | O24: 0.52461244 | P24: 0.49629851 | Q24: 0.49512635 | R24: 0.48804505 | S24: 0.48189837 | T24: 0.47718896 | U24: 0.47663767 | V24: 0.41444493 | W24: 0.38252219 | X24: 0.47976566 | Y24: 0.51988287 | Z24: 0.68040624 | AA24: 0.91682909 | AB24: 0.86332907 | AC24: 0.81239032 | AD24: 1.4380153 | AE24: 1.5762301 | AF24: 1.703163 | AG24: 1.8194291 | AH24: 1.8631137 | AI24: 2.6316947 | AJ24: 2.7395689 | AK24: 2.5620464 | AL24: 3.9879065 | AM24: 3.7961547 | AN24: 3.9426574 | AO24: 3.9678986 | AP24: 4.2283942 | AQ24: 3.1590196 | AR24: 3.4465157 | AS24: 4.7479139 | AT24: 5.9676892 | AU24: 8.5471307 | AV24: 8.0189059 | AW24: 6.5493924 | AX24: 6.3368784 | AY24: 5.8417518 | AZ24: 6.0299244 | BA24: 7.4006096 | BB24: 8.2514639 | BC24: 7.2516515 | BD24: 5.6200882 | BE24: 7.7261388 | BF24: 8.2947655 | BG24: 12.26235 | BH24: Based on national accounts in each country, including our adjustments, and the adjusted exchange rates of the Analysis of Main Aggregate Rates by United Nations Statistics Division.
B25: 12700 | C25: GDP at market price | D25: billions of US dollars | E25: 1.7490818 | F25: 1.8313179 | G25: 1.5957794 | H25: 1.7336085 | I25: 2.1559699 | J25: 2.3671817 | K25: 2.5563367 | L25: 2.954178 | M25: 3.3010691 | N25: 3.6990952 | O25: 3.6428437 | P25: 3.4797869 | Q25: 3.4398854 | R25: 3.4004179 | S25: 3.3613884 | T25: 3.322866 | U25: 3.3215501 | V25: 2.8883758 | W25: 2.6651294 | X25: 3.3432256 | Y25: 3.6227693 | Z25: 3.3413405 | AA25: 3.4760066 | AB25: 2.6656705 | AC25: 2.1154472 | AD25: 3.2377766 | AE25: 3.1259176 | AF25: 3.0181206 | AG25: 2.9139237 | AH25: 2.7219433 | AI25: 3.5350908 | AJ25: 3.624171 | AK25: 4.2893047 | AL25: 4.9035753 | AM25: 5.510796 | AN25: 6.4840558 | AO25: 7.3041337 | AP25: 10.012086 | AQ25: 10.309444 | AR25: 11.950579 | AS25: 15.161978 | AT25: 17.949932 | AU25: 19.844257 | AV25: 19.930137 | AW25: 19.544273 | AX25: 18.734571 | AY25: 18.046225 | AZ25: 18.926152 | BA25: 18.458409 | BB25: 18.943913 | BC25: 20.020944 | BD25: 15.196633 | BE25: 14.217664 | BF25: 16.386063 | BG25: 18.072736 | BH25: Based on national accounts in each country, including our adjustments, and the adjusted exchange rates of the Analysis of Main Aggregate Rates by United Nations Statistics Division.
B26: 12800 | C26: (less) Net indirect taxes on products | D26: billions of US dollars | E26: 0.005712708 | F26: 0.007654656 | G26: 0.0072996319 | H26: 0.0066627398 | I26: 0.0082926629 | J26: 0.0088127999 | K26: 0.0097658649 | L26: 0.011318242 | M26: 0.011940923 | N26: 0.0139053 | O26: 0.013643442 | P26: 0.012957251 | Q26: 0.012912372 | R26: 0.012752478 | S26: 0.01261408 | T26: 0.012488481 | U26: 0.012488742 | V26: 0.010865464 | W26: 0.010029823 | X26: 0.012580215 | Y26: 0.013639101 | Z26: 0.016914615 | AA26: 0.022108462 | AB26: 0.020416702 | AC26: 0.018948792 | AD26: 0.033208531 | AE26: 0.036123503 | AF26: 0.038801116 | AG26: 0.041247514 | AH26: 0.042064134 | AI26: 0.059222145 | AJ26: 0.06165632 | AK26: 0.058241456 | AL26: 0.11486976 | AM26: 0.17440882 | AN26: 0.21679776 | AO26: 0.33016598 | AP26: 0.37470228 | AQ26: 0.38019342 | AR26: 0.57089589 | AS26: 0.95394796 | AT26: 1.1099267 | AU26: 1.2164372 | AV26: 1.2067858 | AW26: 1.0542004 | AX26: 1.1474773 | AY26: 1.1146297 | AZ26: 1.2892834 | BA26: 1.2858441 | BB26: 1.1892647 | BC26: 1.1743876 | BD26: 1.0432457 | BE26: 1.0040095 | BF26: 0.81684484 | BG26: 1.5580438 | BH26: Based on national accounts in each country, including our adjustments, and the adjusted exchange rates of the Analysis of Main Aggregate Rates by United Nations Statistics Division.
B27: 12900 | C27: GDP at basic price | D27: billions of US dollars | E27: 1.7433691 | F27: 1.8236633 | G27: 1.5884798 | H27: 1.7269458 | I27: 2.1476773 | J27: 2.3583689 | K27: 2.5465709 | L27: 2.9428598 | M27: 3.2891282 | N27: 3.6851899 | O27: 3.6292002 | P27: 3.4668297 | Q27: 3.426973 | R27: 3.3876654 | S27: 3.3487744 | T27: 3.3103776 | U27: 3.3090613 | V27: 2.8775103 | W27: 2.6550996 | X27: 3.3306454 | Y27: 3.6091302 | Z27: 3.3244259 | AA27: 3.4538981 | AB27: 2.6452538 | AC27: 2.0964984 | AD27: 3.204568 | AE27: 3.0897941 | AF27: 2.9793195 | AG27: 2.8726762 | AH27: 2.6798792 | AI27: 3.4758686 | AJ27: 3.5625147 | AK27: 4.2310632 | AL27: 4.7887056 | AM27: 5.3363872 | AN27: 6.267258 | AO27: 6.9739677 | AP27: 9.6373841 | AQ27: 9.9292504 | AR27: 11.379683 | AS27: 14.20803 | AT27: 16.840006 | AU27: 18.62782 | AV27: 18.723351 | AW27: 18.490072 | AX27: 17.587094 | AY27: 16.931596 | AZ27: 17.636868 | BA27: 17.172565 | BB27: 17.754648 | BC27: 18.846556 | BD27: 14.153387 | BE27: 13.213654 | BF27: 15.569219 | BG27: 16.514692 | BH27: Based on national accounts in each country, including our adjustments, and the adjusted exchange rates of the Analysis of Main Aggregate Rates by United Nations Statistics Division.
A28: 2a. GDP at Constant Prices
B29: 21100 | C29: Private consumption | D29: million. Afs (2024 prices) | E29: 739915.62 | F29: 729754.01 | G29: 660017.74 | H29: 679260.41 | I29: 696453.66 | J29: 722481.6 | K29: 697237.61 | L29: 653630.4 | M29: 668660.23 | N29: 672261.71 | O29: 677916.79 | P29: 691269.2 | Q29: 712038.01 | R29: 733201.66 | S29: 736707.24 | T29: 736780.06 | U29: 736786.39 | V29: 631779.93 | W29: 563913.63 | X29: 551368.77 | Y29: 546453.22 | Z29: 499170.23 | AA29: 515007.95 | AB29: 385899.99 | AC29: 294228.86 | AD29: 453933.63 | AE29: 435547.46 | AF29: 435334.03 | AG29: 452375.82 | AH29: 422578.68 | AI29: 480023.41 | AJ29: 496145.29 | AK29: 642988.44 | AL29: 753137.43 | AM29: 709891.13 | AN29: 752519.3 | AO29: 775329.98 | AP29: 887526.9 | AQ29: 778021.28 | AR29: 884848.17 | AS29: 904087.32 | AT29: 990391.02 | AU29: 1221982.7 | AV29: 1417669 | AW29: 1223517.8 | AX29: 1264729.1 | AY29: 1317460 | AZ29: 1232127.6 | BA29: 1564120.4 | BB29: 1696507.7 | BC29: 1545092.7 | BD29: 1148748.7 | BE29: 1116264.8 | BF29: 1155604.7 | BG29: 1409522.5 | BH29: Based on national accounts in each country, including our adjustments.
B30: 21101 | C30: …of which, Imputed rent of owner cccupied housings (OOH) | D30: million. Afs (2024 prices) | BH30: Based on national accounts in each country, including our adjustments.
B31: 21200 | C31: Government consumption | D31: million. Afs (2024 prices) | E31: 20494.936 | F31: 21902.061 | G31: 21978.771 | H31: 21873.605 | I31: 22073 | J31: 22913.301 | K31: 23105.225 | L31: 26155.61 | M31: 27505.417 | N31: 29722.001 | O31: 30610.244 | P31: 29553.863 | Q31: 29022.073 | R31: 29462.133 | S31: 30356.817 | T31: 31106.036 | U31: 31480.483 | V31: 31438.481 | W31: 30699.629 | X31: 30123.254 | Y31: 30430.42 | Z31: 31100.015 | AA31: 32898.329 | AB31: 36537.512 | AC31: 40661.102 | AD31: 51281.143 | AE31: 56037.577 | AF31: 61209.044 | AG31: 65734.035 | AH31: 68432.487 | AI31: 78220.711 | AJ31: 83404.784 | AK31: 74216.294 | AL31: 91744.875 | AM31: 102882.56 | AN31: 105732.73 | AO31: 118668.35 | AP31: 117383.65 | AQ31: 112866.51 | AR31: 154679.14 | AS31: 226381.5 | AT31: 248986.5 | AU31: 307706.85 | AV31: 310444.8 | AW31: 320492.25 | AX31: 322049.65 | AY31: 341049.38 | AZ31: 317454.93 | BA31: 308379.89 | BB31: 373191.57 | BC31: 371372.64 | BD31: 276950.63 | BE31: 273732.13 | BF31: 275644.59 | BG31: 298143.35 | BH31: Based on national accounts in each country, including our adjustments.
B32: 21300 | C32: Gross fixed capital formation (GFCF) | D32: million. Afs (2024 prices) | E32: 7789.9778 | F32: 7852.9953 | G32: 9126.0722 | H32: 11856.197 | I32: 15063.2 | J32: 21266.98 | K32: 43336.829 | L32: 49845.474 | M32: 68152.348 | N32: 60394.988 | O32: 44471.819 | P32: 41196.683 | Q32: 38744.449 | R32: 42312.637 | S32: 43584.086 | T32: 42377.672 | U32: 47044.449 | V32: 50174.346 | W32: 53701.586 | X32: 45025.422 | Y32: 38073.215 | Z32: 36902.885 | AA32: 40394.809 | AB32: 32430.456 | AC32: 34220.36 | AD32: 44300.704 | AE32: 47818.707 | AF32: 42475.962 | AG32: 40540.149 | AH32: 48008.66 | AI32: 40885.599 | AJ32: 36564.416 | AK32: 47037.081 | AL32: 51306.858 | AM32: 72486.386 | AN32: 91577.924 | AO32: 107268.03 | AP32: 115543.98 | AQ32: 104312.75 | AR32: 121530.02 | AS32: 131626.74 | AT32: 154905.74 | AU32: 187951.4 | AV32: 185687.79 | AW32: 164773.26 | AX32: 159239.91 | AY32: 138889.25 | AZ32: 156768.33 | BA32: 160284.43 | BB32: 156449.04 | BC32: 171271.58 | BD32: 176028.29 | BE32: 298521.39 | BF32: 323638.94 | BG32: 218872.9 | BH32: Based on national accounts in each country, including our adjustments.
B33: 21400 | C33: Net Increase in Stocks | D33: million. Afs (2024 prices) | BH33: Based on national accounts in each country, including our adjustments.
B34: 21500 | C34: Exports of goods and services | D34: million. Afs (2024 prices) | E34: 35539.602 | F34: 40081.933 | G34: 54871.42 | H34: 50702.762 | I34: 58785.2 | J34: 57011.155 | K34: 61687.866 | L34: 54201.854 | M34: 53336.881 | N34: 57857.223 | O34: 53487.661 | P34: 52641.506 | Q34: 54478.943 | R34: 57632.649 | S34: 59422.632 | T34: 60820.931 | U34: 65207.169 | V34: 62183.518 | W34: 59241.669 | X34: 55609.207 | Y34: 55077.648 | Z34: 57807.761 | AA34: 73501.005 | AB34: 64305.813 | AC34: 56496.349 | AD34: 84412.701 | AE34: 90024.985 | AF34: 93189.489 | AG34: 96304.984 | AH34: 98741.551 | AI34: 100217.43 | AJ34: 93417.685 | AK34: 126433.31 | AL34: 195228.57 | AM34: 158791.95 | AN34: 170380.43 | AO34: 168614.46 | AP34: 170889.45 | AQ34: 195255.39 | AR34: 281863.51 | AS34: 321430.62 | AT34: 423591.99 | AU34: 389855.49 | AV34: 261494.25 | AW34: 373291.78 | AX34: 280036.31 | AY34: 225442.35 | AZ34: 330284.16 | BA34: 248669.12 | BB34: 206074.16 | BC34: 177837.61 | BD34: 190718.97 | BE34: 226216.57 | BF34: 198826.28 | BG34: 198155.94 | BH34: Based on national accounts in each country, including our adjustments.
B35: 21600 | C35: (less) Imports of goods and services | D35: million. Afs (2024 prices) | E35: 64747.179 | F35: 86532.356 | G35: 79701.413 | H35: 59522.82 | I35: 62997.002 | J35: 63647.835 | K35: 68561.256 | L35: 72165.79 | M35: 67337.678 | N35: 74245.397 | O35: 67216.334 | P35: 59520.428 | Q35: 60128.922 | R35: 57624.898 | S35: 55337.662 | T35: 54927.367 | U35: 50785.225 | V35: 42044.772 | W35: 35966.834 | X35: 44327.987 | Y35: 47304.643 | Z35: 59449.658 | AA35: 77261.385 | AB35: 70706.461 | AC35: 65616.037 | AD35: 109746.51 | AE35: 123837.47 | AF35: 139051.61 | AG35: 164188.78 | AH35: 163861.57 | AI35: 211432.14 | AJ35: 230220.29 | AK35: 206958.3 | AL35: 310363.79 | AM35: 267664.79 | AN35: 281272.23 | AO35: 272317.81 | AP35: 274957.42 | AQ35: 244715.52 | AR35: 321839.57 | AS35: 392587.04 | AT35: 490972.14 | AU35: 725643.83 | AV35: 757437.61 | AW35: 560340.27 | AX35: 549413.39 | AY35: 480030.57 | AZ35: 477614.36 | BA35: 669999.26 | BB35: 748281.87 | BC35: 621215.09 | BD35: 489168.7 | BE35: 668728.16 | BF35: 673140.43 | BG35: 858865.22 | BH35: Based on national accounts in each country, including our adjustments.
B36: 21700 | C36: GDP at market price | D36: million. Afs (2024 prices) | E36: 719631.2 | F36: 694322.52 | G36: 674708.41 | H36: 731185.29 | I36: 771056.97 | J36: 818902.98 | K36: 863681.95 | L36: 820129.81 | M36: 880857.44 | N36: 870577.08 | O36: 849698.81 | P36: 867992.25 | Q36: 885654.88 | R36: 929180.66 | S36: 946212.48 | T36: 948735.72 | U36: 977122.09 | V36: 876823.57 | W36: 810098.63 | X36: 752915.2 | Y36: 729406.46 | Z36: 649677.83 | AA36: 660166.87 | AB36: 495356.62 | AC36: 385084.29 | AD36: 551344.74 | AE36: 514571.88 | AF36: 484089.53 | AG36: 461692.7 | AH36: 442534.47 | AI36: 425230.97 | AJ36: 401096.22 | AK36: 653400.4 | AL36: 707164.86 | AM36: 723728.13 | AN36: 795388.27 | AO36: 868255.02 | AP36: 997130 | AQ36: 930993.61 | AR36: 1091356.8 | AS36: 1149482.2 | AT36: 1249267.6 | AU36: 1385810.4 | AV36: 1475554.6 | AW36: 1520769.8 | AX36: 1493530.8 | AY36: 1546686.8 | AZ36: 1587627.7 | BA36: 1606508.2 | BB36: 1669348.4 | BC36: 1634944.1 | BD36: 1295875.1 | BE36: 1215009.9 | BF36: 1242554.6 | BG36: 1265829.5 | BH36: Based on national accounts in each country, including our adjustments.
B37: 21900 | C37: GDP at basic price | D37: million. Afs (2024 prices) | E37: 657592.06 | F37: 634465.23 | G37: 616542.06 | H37: 668150.08 | I37: 704584.44 | J37: 748305.67 | K37: 789224.25 | L37: 749426.72 | M37: 804919.06 | N37: 795524.95 | O37: 776446.6 | P37: 793162.97 | Q37: 809302.91 | R37: 849076.34 | S37: 864639.86 | T37: 866945.57 | U37: 892884.76 | V37: 801232.94 | W37: 740260.34 | X37: 688006.67 | Y37: 666524.6 | Z37: 593669.35 | AA37: 603254.14 | AB37: 452652.12 | AC37: 351886.32 | AD37: 503813.52 | AE37: 470210.83 | AF37: 442356.36 | AG37: 421890.35 | AH37: 404383.74 | AI37: 388571.97 | AJ37: 366517.87 | AK37: 597070.99 | AL37: 646200.45 | AM37: 661335.8 | AN37: 726818.15 | AO37: 793403.08 | AP37: 911167.8 | AQ37: 850733 | AR37: 997271.37 | AS37: 1050385.8 | AT37: 1141568.7 | AU37: 1266340.2 | AV37: 1348347.6 | AW37: 1389664.8 | AX37: 1364774 | AY37: 1413347.6 | AZ37: 1450758.9 | BA37: 1468011.7 | BB37: 1525434.5 | BC37: 1493996.2 | BD37: 1184158.2 | BE37: 1110264.4 | BF37: 1135434.4 | BG37: 1156702.8 | BH37: Based on national accounts in each country, including our adjustments.
A38: 2b. GDP at Constant Prices, using 2021 PPPs, reference year 2021
B39: 22100 | C39: Private consumption | D39: billions of US dollars (as of 2024) | E39: 55.614546 | F39: 54.850765 | G39: 49.609152 | H39: 51.055497 | I39: 52.347798 | J39: 54.304146 | K39: 52.406723 | L39: 49.129058 | M39: 50.258751 | N39: 50.529451 | O39: 50.954506 | P39: 51.958117 | Q39: 53.519171 | R39: 55.109902 | S39: 55.373393 | T39: 55.378867 | U39: 55.379342 | V39: 47.486704 | W39: 42.385644 | X39: 41.442731 | Y39: 41.073262 | Z39: 37.519313 | AA39: 38.709729 | AB39: 29.005541 | AC39: 22.115231 | AD39: 34.119178 | AE39: 32.737212 | AF39: 32.72117 | AG39: 34.002088 | AH39: 31.762435 | AI39: 36.080174 | AJ39: 37.291948 | AK39: 48.329173 | AL39: 56.608342 | AM39: 53.357804 | AN39: 56.561881 | AO39: 58.276408 | AP39: 66.709506 | AQ39: 58.478696 | AR39: 66.508164 | AS39: 67.954243 | AT39: 74.441119 | AU39: 91.84833 | AV39: 106.55677 | AW39: 91.96371 | AX39: 95.061288 | AY39: 99.024725 | AZ39: 92.610853 | BA39: 117.56454 | BB39: 127.51523 | BC39: 116.13436 | BD39: 86.343812 | BE39: 83.902219 | BF39: 86.859135 | BG39: 105.94445 | BH39: Based on national accounts in each country, including our adjustments, and PPP by World Bank (ICP 2021 Round).
B40: 22101 | C40: …of which, Imputed rent of owner cccupied housings (OOH) | D40: billions of US dollars (as of 2024) | BH40: Based on national accounts in each country, including our adjustments, and PPP by World Bank (ICP 2021 Round).
B41: 22200 | C41: Government consumption | D41: billions of US dollars (as of 2024) | E41: 1.5355024 | F41: 1.6409257 | G41: 1.646673 | H41: 1.6387938 | I41: 1.6537327 | J41: 1.7166889 | K41: 1.7310681 | L41: 1.9596062 | M41: 2.0607351 | N41: 2.226804 | O41: 2.2933521 | P41: 2.2142069 | Q41: 2.1743647 | R41: 2.2073344 | S41: 2.2743651 | T41: 2.3304974 | U41: 2.3585513 | V41: 2.3554045 | W41: 2.3000489 | X41: 2.2568663 | Y41: 2.2798795 | Z41: 2.3300462 | AA41: 2.4647779 | AB41: 2.7374293 | AC41: 3.0463731 | AD41: 3.8420379 | AE41: 4.198395 | AF41: 4.5858468 | AG41: 4.924864 | AH41: 5.1270349 | AI41: 5.860379 | AJ41: 6.2487754 | AK41: 5.5603639 | AL41: 6.8736239 | AM41: 7.708071 | AN41: 7.9216087 | AO41: 8.8907591 | AP41: 8.7945081 | AQ41: 8.4560793 | AR41: 11.588726 | AS41: 16.960743 | AT41: 18.654334 | AU41: 23.053725 | AV41: 23.258855 | AW41: 24.011621 | AX41: 24.128303 | AY41: 25.551783 | AZ41: 23.784062 | BA41: 23.10415 | BB41: 27.95991 | BC41: 27.823634 | BD41: 20.749436 | BE41: 20.508303 | BF41: 20.651587 | BG41: 22.337218 | BH41: Based on national accounts in each country, including our adjustments, and PPP by World Bank (ICP 2021 Round).
...

Sheet BAN
A1: Bangladesh
A2: =Information!A1&" "&Information!A2 -> APO Productivity Database 2026 Ver. 1 (September 18, 2026)
BI3: #VALUE! | BJ3: #VALUE!
A4: Group | B4: Code | C4: Variable | D4: Unit | E4: 1970 | F4: =E4+1 -> 1971 | G4: =F4+1 -> 1972 | H4: =G4+1 -> 1973 | I4: =H4+1 -> 1974 | J4: =I4+1 -> 1975 | K4: =J4+1 -> 1976 | L4: =K4+1 -> 1977 | M4: =L4+1 -> 1978 | ... BG4: =BF4+1 -> 2024 | BH4: Note
A5: Economy-wide data
A6: 1a. GDP at Current Prices
B7: 11100 | C7: Private consumption | D7: million taka | E7: 45369.37 | F7: 45146.797 | G7: 39770.066 | H7: 64340.021 | I7: 101741.49 | J7: 167336.56 | K7: 145138.16 | L7: 140412.1 | M7: 183469.09 | N7: 220338.87 | O7: 243217.51 | P7: 283776.84 | Q7: 325271.21 | R7: 367944.46 | S7: 442169.34 | T7: 508733.56 | U7: 567426.13 | V7: 663089.9 | W7: 733022.37 | X7: 822055.51 | Y7: 926931.25 | Z7: 1009299.4 | AA7: 1079569.7 | AB7: 1130364.3 | AC7: 1220076 | AD7: 1400321.4 | AE7: 1542825.1 | AF7: 1618961 | AG7: 1750623.5 | AH7: 1901479.9 | AI7: 2037411.9 | AJ7: 2224953.8 | AK7: 2377047.4 | AL7: 2669440.3 | AM7: 2943921.6 | AN7: 3322396.4 | AO7: 3750731.7 | AP7: 4353061.4 | AQ7: 5129540.3 | AR7: 5731737.9 | AS7: 6504576 | AT7: 7600536.4 | AU7: 8772882.7 | AV7: 9955491.3 | AW7: 11109476 | AX7: 12722272 | AY7: 13983700 | AZ7: 15658517 | BA7: 18307712 | BB7: 19750999 | BC7: 21588055 | BD7: 24533711 | BE7: 27908949 | BF7: 30561199 | BG7: 34641944 | BH7: Based on national accounts in each country, including our adjustments.
B8: 11101 | C8: …of which, Imputed rent of owner cccupied housings (OOH) | D8: million taka | P8: 17224.635 | Q8: 18561.06 | R8: 19334.681 | S8: 24298.795 | T8: 27537.128 | U8: 31731.909 | V8: 37242.353 | W8: 44100.352 | X8: 52995.066 | Y8: 59024.833 | Z8: 65641.723 | AA8: 70078.335 | AB8: 77077.554 | AC8: 85340.098 | AD8: 93283.14 | AE8: 108098.89 | AF8: 116667.55 | AG8: 126225.22 | AH8: 140423.98 | AI8: 151542.47 | AJ8: 159870.22 | AK8: 171219.94 | AL8: 181916.19 | AM8: 194926.48 | AN8: 209380.35 | AO8: 225434.98 | AP8: 243861.04 | AQ8: 264739.31 | AR8: 288296.66 | AS8: 315161.8 | AT8: 369114.05 | AU8: 425035.14 | AV8: 488169.39 | AW8: 558469.81 | AX8: 640453.09 | AY8: 745382.67 | AZ8: 834608.67 | BA8: 947697.06 | BB8: 1059794.5 | BC8: 1138447.3 | BD8: 1267613.3 | BE8: 1426157.8 | BF8: 1612564.5 | BG8: 1796345.1 | BH8: Based on national accounts in each country, including our adjustments.
B9: 11200 | C9: Government consumption | D9: million taka | E9: 771.07067 | F9: 788.14851 | G9: 732.98992 | H9: 969.06837 | I9: 2051.4484 | J9: 3363.2705 | K9: 8598.1564 | L9: 10238.639 | M9: 10803.506 | N9: 13256.9 | O9: 14869.196 | P9: 17377.273 | Q9: 19634.254 | R9: 21411.095 | S9: 24271.454 | T9: 27628.564 | U9: 32325.64 | V9: 36572.36 | W9: 40542.238 | X9: 45156.93 | Y9: 50140.257 | Z9: 55140.657 | AA9: 64103.229 | AB9: 73789.507 | AC9: 78796.498 | AD9: 85448.66 | AE9: 89791 | AF9: 101003 | AG9: 116317 | AH9: 124231 | AI9: 133530 | AJ9: 141172 | AK9: 159876.57 | AL9: 183211.1 | AM9: 205962.22 | AN9: 232583.95 | AO9: 279222.04 | AP9: 317338.61 | AQ9: 354776.83 | AR9: 395996.48 | AS9: 451501.05 | AT9: 526714.51 | AU9: 606774.33 | AV9: 707790.33 | AW9: 836769.15 | AX9: 966267.43 | AY9: 1217531 | AZ9: 1399775 | BA9: 1572772 | BB9: 1841157 | BC9: 1893153 | BD9: 2076719 | BE9: 2263481.4 | BF9: 2544137.5 | BG9: 2955605 | BH9: Based on national accounts in each country, including our adjustments.
B10: 11300 | C10: Gross fixed capital formation (GFCF) | D10: million taka | E10: 3707.3927 | F10: 2652.3159 | G10: 2288.7377 | H10: 6618.8241 | I10: 8177.4635 | J10: 11804.221 | K10: 16590.057 | L10: 19408.059 | M10: 25978.535 | N10: 29845.575 | O10: 45355.301 | P10: 56786.313 | Q10: 65278.359 | R10: 71027.222 | S10: 80882.029 | T10: 96235.973 | U10: 112234.72 | V10: 125261.85 | W10: 141873.49 | X10: 163778.01 | Y10: 190208.17 | Z10: 209843.11 | AA10: 235016.04 | AB10: 258387.86 | AC10: 289235.49 | AD10: 342023.76 | AE10: 393731 | AF10: 449421 | AG10: 502001 | AH10: 560102 | AI10: 639268 | AJ10: 703241.94 | AK10: 768312.94 | AL10: 882903.97 | AM10: 975559.36 | AN10: 1134355.1 | AO10: 1309203.6 | AP10: 1507218.6 | AQ10: 1746618.4 | AR10: 1990205.7 | AS10: 2279838 | AT10: 2846127 | AU10: 3278941.3 | AV10: 3797481.6 | AW10: 4484676.9 | AX10: 5271093 | AY10: 6281803.9 | AZ10: 7198234.4 | BA10: 8403031.3 | BB10: 9512520.5 | BC10: 9931060.2 | BD10: 10950188 | BE10: 12728269 | BF10: 13899694 | BG10: 15358392 | BH10: Based on national accounts in each country, including our adjustments and estimates.
B11: 11400 | C11: Net increase in stocks | D11: million taka | BH11: Based on national accounts in each country, including our adjustments.
B12: 11500 | C12: Exports of goods and services | D12: million taka | E12: 2638.0002 | F12: 1943.0001 | G12: 1574 | H12: 3025 | I12: 2712 | J12: 3674 | K12: 5242 | L12: 7728 | M12: 8205 | N12: 10640 | O12: 14016 | P12: 16977 | Q12: 18842 | R12: 23446 | S12: 26065 | T12: 31189 | U12: 33856 | V12: 37587 | W12: 45015 | X12: 51185 | Y12: 61422 | Z12: 73634 | AA12: 90693 | AB12: 113049 | AC12: 121892 | AD12: 165705 | AE12: 184359 | AF12: 216723 | AG12: 266809 | AH12: 289861 | AI12: 331446 | AJ12: 390000 | AK12: 390021 | AL12: 398170 | AM12: 427239 | AN12: 614681 | AO12: 788788 | AP12: 934403 | AQ12: 1110181 | AR12: 1194401 | AS12: 1277985 | AT12: 1824521 | AU12: 2127459 | AV12: 2342441 | AW12: 2551592 | AX12: 2627897 | AY12: 2889793 | AZ12: 2979703 | BA12: 3345191 | BB12: 3864824 | BC12: 3310854 | BD12: 3764158 | BE12: 5116455 | BF12: 5908674 | BG12: 5233370 | BH12: Based on national accounts in each country, including our adjustments.
B13: 11600 | C13: (less) Imports of goods and services | D13: million taka | E13: 3968.9997 | F13: 3312.9996 | G13: 3808.9996 | H13: 5484 | I13: 7583 | J13: 10280 | K13: 19479 | L13: 13590 | M13: 22855 | N13: 27514 | O13: 39588 | P13: 46708 | Q13: 57661 | R13: 61558 | S13: 63458 | T13: 74361 | U13: 77314 | V13: 88112 | W13: 101583 | X13: 118120 | Y13: 135751 | Z13: 135133 | AA13: 147603 | AB13: 176825 | AC13: 187740 | AD13: 264540 | AE13: 310913 | AF13: 325591 | AG13: 365873 | AH13: 409927 | AI13: 455852 | AJ13: 545134 | AK13: 520367 | AL13: 565210 | AM13: 602221 | AN13: 854323 | AO13: 1049491 | AP13: 1261628 | AQ13: 1569320 | AR13: 1632429 | AS13: 1736938 | AT13: 2518417 | AU13: 2949225 | AV13: 3208142 | AW13: 3429651 | AX13: 3751508 | AY13: 3614616 | AZ13: 3993156 | BA13: 5236227 | BB13: 5455213 | BC13: 5018428 | BD13: 6022928 | BE13: 8299990 | BF13: 8005288 | BG13: 8162774 | BH13: Based on national accounts in each country, including our adjustments.
B14: 11700 | C14: GDP at market price | D14: million taka | E14: 48516.834 | F14: 47217.262 | G14: 40556.794 | H14: 69468.914 | I14: 107099.41 | J14: 175898.06 | K14: 156089.37 | L14: 164196.8 | M14: 205601.13 | N14: 246567.35 | O14: 277870.01 | P14: 328209.43 | Q14: 371364.82 | R14: 422270.78 | S14: 509929.82 | T14: 589426.09 | U14: 668528.5 | V14: 774399.11 | W14: 858870.1 | X14: 964055.45 | Y14: 1092950.7 | Z14: 1212784.2 | AA14: 1321778.9 | AB14: 1398765.6 | AC14: 1522260 | AD14: 1728958.8 | AE14: 1899793.1 | AF14: 2060517 | AG14: 2269877.5 | AH14: 2465746.9 | AI14: 2685803.9 | AJ14: 2914233.8 | AK14: 3174890.9 | AL14: 3568515.4 | AM14: 3950461.2 | AN14: 4449693.5 | AO14: 5078454.3 | AP14: 5850393.6 | AQ14: 6771796.6 | AR14: 7679912.1 | AS14: 8776962.1 | AT14: 10279482 | AU14: 11836832 | AV14: 13595062 | AW14: 15552863 | AX14: 17836021 | AY14: 20758212 | AZ14: 23243073 | BA14: 26392479 | BB14: 29514288 | BC14: 31704694 | BD14: 35301848 | BE14: 39717164 | BF14: 44908417 | BG14: 50026537 | BH14: Based on national accounts in each country, including our adjustments.
B15: 11800 | C15: (less) Net indirect taxes on products | D15: million taka | E15: 1887.5714 | F15: 1781.0694 | G15: 1705.0018 | H15: 2654.7485 | I15: 4031.6279 | J15: 6296.0538 | K15: 7074.482 | L15: 6041.3798 | M15: 8672.7031 | N15: 10425.656 | O15: 12916.275 | P15: 15149.388 | Q15: 17994.458 | R15: 19794.896 | S15: 22181.281 | T15: 25726.696 | U15: 27835.319 | V15: 32186.464 | W15: 36219.307 | X15: 41259.942 | Y15: 46915.108 | Z15: 49146.811 | AA15: 53036.295 | AB15: 58934.939 | AC15: 63135.892 | AD15: 79958.617 | AE15: 91067.251 | AF15: 95459.647 | AG15: 105331.78 | AH15: 116322.14 | AI15: 127176.93 | AJ15: 146112.79 | AK15: 159342.69 | AL15: 181479.53 | AM15: 202245.77 | AN15: 221489.25 | AO15: 245781.82 | AP15: 248387.24 | AQ15: 280898.84 | AR15: 298064.24 | AS15: 366189.04 | AT15: 461884.4 | AU15: 528797.35 | AV15: 537482.62 | AW15: 604867.12 | AX15: 709404.12 | AY15: 883937 | AZ15: 1025143 | BA15: 1226445 | BB15: 1275855 | BC15: 1134217 | BD15: 1323656 | BE15: 1518878.1 | BF15: 1477543.6 | BG15: 1661565.3 | BH15: Based on national accounts in each country, including our adjustments.
B16: 11900 | C16: GDP at basic price | D16: million taka | E16: 46629.262 | F16: 45436.193 | G16: 38851.792 | H16: 66814.165 | I16: 103067.78 | J16: 169602 | K16: 149014.89 | L16: 158155.42 | M16: 196928.42 | N16: 236141.69 | O16: 264953.74 | P16: 313060.04 | Q16: 353370.37 | R16: 402475.88 | S16: 487748.54 | T16: 563699.4 | U16: 640693.18 | V16: 742212.65 | W16: 822650.79 | X16: 922795.51 | Y16: 1046035.6 | Z16: 1163637.3 | AA16: 1268742.6 | AB16: 1339830.7 | AC16: 1459124.1 | AD16: 1649000.2 | AE16: 1808725.8 | AF16: 1965057.3 | AG16: 2164545.7 | AH16: 2349424.8 | AI16: 2558627 | AJ16: 2768121 | AK16: 3015548.2 | AL16: 3387035.8 | AM16: 3748215.4 | AN16: 4228204.2 | AO16: 4832672.5 | AP16: 5602006.3 | AQ16: 6490897.7 | AR16: 7381847.8 | AS16: 8410773 | AT16: 9817597.4 | AU16: 11308035 | AV16: 13057580 | AW16: 14947996 | AX16: 17126617 | AY16: 19874275 | AZ16: 22217930 | BA16: 25166034 | BB16: 28238433 | BC16: 30570477 | BD16: 33978192 | BE16: 38198286 | BF16: 43430873 | BG16: 48364971 | BH16: Based on national accounts in each country, including our adjustments.
A17: 1b. GDP at Current Prices in US dollars, using annual average exchange rate
B18: 12100 | C18: Private consumption | D18: billions of US dollars | E18: 6.2329125 | F18: 5.7374127 | G18: 6.2667805 | H18: 6.6255986 | I18: 8.2360547 | J18: 8.6466941 | K18: 9.4250647 | L18: 9.1324348 | M18: 12.218145 | N18: 14.167949 | O18: 15.7381 | P18: 15.777045 | Q18: 14.706254 | R18: 14.947719 | S18: 17.439871 | T18: 18.172566 | U18: 18.661098 | V18: 21.424668 | W18: 23.099506 | X18: 25.474295 | Y18: 26.814093 | Z18: 27.579362 | AA18: 27.716268 | AB18: 28.568174 | AC18: 30.341289 | AD18: 34.766134 | AE18: 36.914841 | AF18: 36.885006 | AG18: 37.32223 | AH18: 38.738198 | AI18: 39.074545 | AJ18: 39.868961 | AK18: 41.06287 | AL18: 45.906078 | AM18: 49.46715 | AN18: 51.648171 | AO18: 54.41108 | AP18: 63.202458 | AQ18: 74.776521 | AR18: 83.02166 | AS18: 93.390412 | AT18: 102.49886 | AU18: 107.16587 | AV18: 127.4658 | AW18: 143.087 | AX18: 163.21714 | AY18: 178.20874 | AZ18: 194.66677 | BA18: 219.34281 | BB18: 233.86827 | BC18: 254.36198 | BD18: 288.34774 | BE18: 304.1998 | BF18: 287.47387 | BG18: 299.66132 | BH18: Based on national accounts in each country, including our adjustments, and the adjusted exchange rates of the Analysis of Main Aggregate Rates by United Nations Statistics Division.
B19: 12101 | C19: …of which, Imputed rent of owner cccupied housings (OOH) | D19: billions of US dollars | P19: 0.95763219 | Q19: 0.8391879 | R19: 0.78547013 | S19: 0.95838362 | T19: 0.98365886 | U19: 1.0435759 | V19: 1.2033135 | W19: 1.3897207 | X19: 1.6422394 | Y19: 1.7074593 | Z19: 1.7936767 | AA19: 1.799152 | AB19: 1.9480136 | AC19: 2.1222683 | AD19: 2.3159641 | AE19: 2.5864587 | AF19: 2.6580527 | AG19: 2.6910451 | AH19: 2.8608096 | AI19: 2.9063604 | AJ19: 2.8647155 | AK19: 2.9577794 | AL19: 3.1283932 | AM19: 3.2753785 | AN19: 3.2549132 | AO19: 3.2703381 | AP19: 3.5406386 | AQ19: 3.8592707 | AR19: 4.1758482 | AS19: 4.5249821 | AT19: 4.9777761 | AU19: 5.1920516 | AV19: 6.2503095 | AW19: 7.1929377 | AX19: 8.2165298 | AY19: 9.4991818 | AZ19: 10.37586 | BA19: 11.354261 | BB19: 12.548849 | BC19: 13.413793 | BD19: 14.898416 | BE19: 15.544724 | BF19: 15.168585 | BG19: 15.538827 | BH19: Based on national accounts in each country, including our adjustments, and the adjusted exchange rates of the Analysis of Main Aggregate Rates by United Nations Statistics Division.
B20: 12200 | C20: Government consumption | D20: billions of US dollars | E20: 0.10593085 | F20: 0.10016067 | G20: 0.11550111 | H20: 0.099792602 | I20: 0.16606638 | J20: 0.1737885 | K20: 0.55835199 | L20: 0.66592338 | M20: 0.71946069 | N20: 0.85242826 | O20: 0.96215475 | P20: 0.96611837 | Q20: 0.88770947 | R20: 0.86982429 | S20: 0.95730527 | T20: 0.98692507 | U20: 1.0631021 | V20: 1.1816658 | W20: 1.2775949 | X20: 1.3993471 | Y20: 1.450448 | Z20: 1.5067325 | AA20: 1.6457505 | AB20: 1.8649134 | AC20: 1.9595397 | AD20: 2.1214555 | AE20: 2.1484098 | AF20: 2.301165 | AG20: 2.4798078 | AH20: 2.5309155 | AI20: 2.5609078 | AJ20: 2.5296619 | AK20: 2.7618257 | AL20: 3.1506615 | AM20: 3.4608136 | AN20: 3.6156238 | AO20: 4.0506157 | AP20: 4.6074655 | AQ20: 5.1718039 | AR20: 5.7358319 | AS20: 6.482493 | AT20: 7.1031351 | AU20: 7.4121015 | AV20: 9.0622409 | AW20: 10.777357 | AX20: 12.396482 | AY20: 15.516256 | AZ20: 17.402011 | BA20: 18.84322 | BB20: 21.800831 | BC20: 22.306138 | BD20: 24.407935 | BE20: 24.671319 | BF20: 23.931426 | BG20: 25.56671 | BH20: Based on national accounts in each country, including our adjustments, and the adjusted exchange rates of the Analysis of Main Aggregate Rates by United Nations Statistics Division.
B21: 12300 | C21: Gross fixed capital formation (GFCF) | D21: billions of US dollars | E21: 0.5093272 | F21: 0.33706557 | G21: 0.36064856 | H21: 0.68159244 | I21: 0.66197216 | J21: 0.60995327 | K21: 1.0773346 | L21: 1.2623046 | M21: 1.7300435 | N21: 1.919092 | O21: 2.9348473 | P21: 3.1571294 | Q21: 2.9513836 | R21: 2.8854762 | S21: 3.1901176 | T21: 3.437663 | U21: 3.6910939 | V21: 4.0472545 | W21: 4.4708153 | X21: 5.0752406 | Y21: 5.5023063 | Z21: 5.7340163 | AA21: 6.0336705 | AB21: 6.5303454 | AC21: 7.1928122 | AD21: 8.4915105 | AE21: 9.4207162 | AF21: 10.239219 | AG21: 10.702356 | AH21: 11.410766 | AI21: 12.260214 | AJ21: 12.601397 | AK21: 13.272404 | AL21: 15.183205 | AM21: 16.392468 | AN21: 17.634069 | AO21: 18.992343 | AP21: 21.883431 | AQ21: 25.46155 | AR21: 28.827239 | AS21: 32.733111 | AT21: 38.382129 | AU21: 40.054176 | AV21: 48.62131 | AW21: 57.761406 | AX21: 67.624145 | AY21: 80.05552 | AZ21: 89.488493 | BA21: 100.67586 | BB21: 112.63616 | BC21: 117.01305 | BD21: 128.69891 | BE21: 138.7346 | BF21: 130.74745 | BG21: 132.85386 | BH21: Based on national accounts in each country, including our adjustments and estimates, and the adjusted exchange rates of the Analysis of Main Aggregate Rates by United Nations Statistics Division.
B22: 12400 | C22: Net Increase in Stocks | D22: billions of US dollars | BH22: Based on national accounts in each country, including our adjustments, and the adjusted exchange rates of the Analysis of Main Aggregate Rates by United Nations Statistics Division.
B23: 12500 | C23: Exports of goods and services | D23: billions of US dollars | E23: 0.36241244 | F23: 0.24692324 | G23: 0.24802354 | H23: 0.31150807 | I23: 0.21953855 | J23: 0.18984467 | K23: 0.34040799 | L23: 0.50263088 | M23: 0.54641291 | N23: 0.68415968 | O23: 0.90694623 | P23: 0.94386451 | Q23: 0.85188984 | R23: 0.95249219 | S23: 1.0280456 | T23: 1.1141081 | U23: 1.1134315 | V23: 1.2144492 | W23: 1.4185437 | X23: 1.5861481 | Y23: 1.7768041 | Z23: 2.0120677 | AA23: 2.3284014 | AB23: 2.8571351 | AC23: 3.0312541 | AD23: 4.114 | AE23: 4.4111178 | AF23: 4.9376294 | AG23: 5.6882058 | AH23: 5.9052386 | AI23: 6.3566438 | AJ23: 6.9884124 | AK23: 6.7375104 | AL23: 6.8472868 | AM23: 7.1789601 | AN23: 9.5554971 | AO23: 11.442783 | AP23: 13.566674 | AQ23: 16.183803 | AR23: 17.300364 | AS23: 18.348859 | AT23: 24.605016 | AU23: 25.988149 | AV23: 29.9916 | AW23: 32.863804 | AX23: 33.713935 | AY23: 36.827619 | AZ23: 37.043686 | BA23: 40.07839 | BB23: 45.762733 | BC23: 39.010248 | BD23: 44.240615 | BE23: 55.76794 | BF23: 55.579933 | BG23: 45.269936 | BH23: Based on national accounts in each country, including our adjustments, and the adjusted exchange rates of the Analysis of Main Aggregate Rates by United Nations Statistics Division.
B24: 12600 | C24: (less) Imports of goods and services | D24: billions of US dollars | E24: 0.54526717 | F24: 0.42102756 | G24: 0.6002043 | H24: 0.56473067 | I24: 0.61384987 | J24: 0.53119302 | K24: 1.2649384 | L24: 0.88389669 | M24: 1.5220313 | N24: 1.7691701 | O24: 2.5616572 | P24: 2.5968088 | Q24: 2.6069854 | R24: 2.5007896 | S24: 2.5028858 | T24: 2.6562631 | U24: 2.5426466 | V24: 2.8469297 | W24: 3.2011535 | X24: 3.6603657 | Y24: 3.9269795 | Z24: 3.6925435 | AA24: 3.7894769 | AB24: 4.4689729 | AC24: 4.6687859 | AD24: 6.5678015 | AE24: 7.4391479 | AF24: 7.4179837 | AG24: 7.8001901 | AH24: 8.351302 | AI24: 8.7425667 | AJ24: 9.7682595 | AK24: 8.9892033 | AL24: 9.7198557 | AM24: 10.119209 | AN24: 13.280842 | AO24: 15.224746 | AP24: 18.317681 | AQ24: 22.87696 | AR24: 23.645004 | AS24: 24.938344 | AT24: 33.962717 | AU24: 36.026499 | AV24: 41.075661 | AW24: 44.172962 | AX24: 48.129016 | AY24: 46.064788 | AZ24: 49.642939 | BA24: 62.734698 | BB24: 64.594262 | BC24: 59.129795 | BD24: 70.788218 | BE24: 90.467588 | BF24: 75.301729 | BG24: 70.61 | BH24: Based on national accounts in each country, including our adjustments, and the adjusted exchange rates of the Analysis of Main Aggregate Rates by United Nations Statistics Division.
B25: 12700 | C25: GDP at market price | D25: billions of US dollars | E25: 6.6653158 | F25: 6.0005346 | G25: 6.3907494 | H25: 7.1537611 | I25: 8.6697819 | J25: 9.0890875 | K25: 10.136221 | L25: 10.679397 | M25: 13.69203 | N25: 15.854458 | O25: 17.980391 | P25: 18.247348 | Q25: 16.790252 | R25: 17.154722 | S25: 20.112454 | T25: 21.054999 | U25: 21.986079 | V25: 25.021108 | W25: 27.065307 | X25: 29.874665 | Y25: 31.616672 | Z25: 33.139635 | AA25: 33.934613 | AB25: 35.351595 | AC25: 37.856109 | AD25: 42.925298 | AE25: 45.455937 | AF25: 46.945036 | AG25: 48.39241 | AH25: 50.233816 | AI25: 51.509744 | AJ25: 52.220173 | AK25: 54.845407 | AL25: 61.367376 | AM25: 66.380183 | AN25: 69.172519 | AO25: 73.672075 | AP25: 84.942348 | AQ25: 98.716718 | AR25: 111.24009 | AS25: 126.01653 | AT25: 138.62642 | AU25: 144.59379 | AV25: 174.06529 | AW25: 200.3166 | AX25: 228.82269 | AY25: 264.54335 | AZ25: 288.95802 | BA25: 316.20558 | BB25: 349.47374 | BC25: 373.56161 | BD25: 414.90699 | BE25: 432.90607 | BF25: 422.43096 | BG25: 432.74183 | BH25: Based on national accounts in each country, including our adjustments, and the adjusted exchange rates of the Analysis of Main Aggregate Rates by United Nations Statistics Division.
B26: 12800 | C26: (less) Net indirect taxes on products | D26: billions of US dollars | E26: 0.25931741 | F26: 0.22634451 | G26: 0.26866619 | H26: 0.27338036 | I26: 0.32636348 | J26: 0.32533267 | K26: 0.45940675 | L26: 0.39293272 | M26: 0.57755965 | N26: 0.67037723 | O26: 0.83578534 | P26: 0.84225538 | Q26: 0.81357051 | R26: 0.80416631 | S26: 0.87486546 | T26: 0.91898807 | U26: 0.9154277 | V26: 1.039956 | W26: 1.1413678 | X26: 1.2785851 | Y26: 1.3571514 | Z26: 1.3429491 | AA26: 1.3616242 | AB26: 1.4894876 | AC26: 1.5700861 | AD26: 1.9851528 | AE26: 2.1789464 | AF26: 2.17487 | AG26: 2.2456096 | AH26: 2.369791 | AI26: 2.4390652 | AJ26: 2.6181959 | AK26: 2.752603 | AL26: 3.1208841 | AM26: 3.3983656 | AN26: 3.4431516 | AO26: 3.5655055 | AP26: 3.6063549 | AQ26: 4.0948382 | AR26: 4.3173271 | AS26: 5.2576132 | AT26: 6.228853 | AU26: 6.4595673 | AV26: 6.8816947 | AW26: 7.7905222 | AX26: 9.1011194 | AY26: 11.264923 | AZ26: 12.744584 | BA26: 14.693912 | BB26: 15.107185 | BC26: 13.36395 | BD26: 15.557093 | BE26: 16.55535 | BF26: 13.898512 | BG26: 14.372948 | BH26: Based on national accounts in each country, including our adjustments, and the adjusted exchange rates of the Analysis of Main Aggregate Rates by United Nations Statistics Division.
B27: 12900 | C27: GDP at basic price | D27: billions of US dollars | E27: 6.4059984 | F27: 5.7741901 | G27: 6.1220832 | H27: 6.8803807 | I27: 8.3434184 | J27: 8.7637548 | K27: 9.6768141 | L27: 10.286464 | M27: 13.114471 | N27: 15.184081 | O27: 17.144606 | P27: 17.405093 | Q27: 15.976681 | R27: 16.350556 | S27: 19.237589 | T27: 20.136011 | U27: 21.070651 | V27: 23.981152 | W27: 25.923939 | X27: 28.59608 | Y27: 30.259521 | Z27: 31.796686 | AA27: 32.572989 | AB27: 33.862107 | AC27: 36.286023 | AD27: 40.940146 | AE27: 43.276991 | AF27: 44.770166 | AG27: 46.1468 | AH27: 47.864025 | AI27: 49.070678 | AJ27: 49.601977 | AK27: 52.092804 | AL27: 58.246492 | AM27: 62.981818 | AN27: 65.729367 | AO27: 70.106569 | AP27: 81.335993 | AQ27: 94.62188 | AR27: 106.92276 | AS27: 120.75892 | AT27: 132.39757 | AU27: 138.13423 | AV27: 167.1836 | AW27: 192.52608 | AX27: 219.72157 | AY27: 253.27843 | AZ27: 276.21344 | BA27: 301.51167 | BB27: 334.36655 | BC27: 360.19766 | BD27: 399.3499 | BE27: 416.35072 | BF27: 408.53244 | BG27: 418.36888 | BH27: Based on national accounts in each country, including our adjustments, and the adjusted exchange rates of the Analysis of Main Aggregate Rates by United Nations Statistics Division.
A28: 2a. GDP at Constant Prices
B29: 21100 | C29: Private consumption | D29: million taka (2024 prices) | E29: 6360834.6 | F29: 6312814.2 | G29: 5839771.9 | H29: 4735266.1 | I29: 4887183.5 | J29: 4682699.2 | K29: 4832987.2 | L29: 4427128.1 | M29: 4924285.7 | N29: 5100379.5 | O29: 5234810.5 | P29: 5267560.9 | Q29: 5209584.1 | R29: 5182895.5 | S29: 5557920.5 | T29: 5773114.6 | U29: 5936260.4 | V29: 6092095.4 | W29: 6331476.1 | X29: 6550359.9 | Y29: 7111175 | Z29: 7148773 | AA29: 7312756.7 | AB29: 7452608.8 | AC29: 7789331.4 | AD29: 8211700.1 | AE29: 8428523.8 | AF29: 8334776.9 | AG29: 8507220.6 | AH29: 8846568.7 | AI29: 9284622.7 | AJ29: 9794131.7 | AK29: 9853138.8 | AL29: 10312131 | AM29: 11107629 | AN29: 11987383 | AO29: 12939214 | AP29: 14006370 | AQ29: 14663257 | AR29: 15156453 | AS29: 16004521 | AT29: 17304159 | AU29: 18181362 | AV29: 19323084 | AW29: 20086546 | AX29: 21616926 | AY29: 22432275 | AZ29: 23823039 | BA29: 26569720 | BB29: 27163233 | BC29: 28435417 | BD29: 30517318 | BE29: 33018834 | BF29: 32850233 | BG29: 34641944 | BH29: Based on national accounts in each country, including our adjustments.
B30: 21101 | C30: …of which, Imputed rent of owner cccupied housings (OOH) | D30: million taka (2024 prices) | BH30: Based on national accounts in each country, including our adjustments.
B31: 21200 | C31: Government consumption | D31: million taka (2024 prices) | E31: 61434.327 | F31: 62461.557 | G31: 69044.041 | H31: 53652.96 | I31: 81669.361 | J31: 83872.441 | K31: 249246.4 | L31: 289193.68 | M31: 254578.06 | N31: 269324.43 | O31: 277697.63 | P31: 285386.43 | Q31: 295820.38 | R31: 293925.68 | S31: 285602.58 | T31: 297478.64 | U31: 313850.48 | V31: 319503.15 | W31: 330667.61 | X31: 345234.57 | Y31: 352473.58 | Z31: 361463.98 | AA31: 401775.59 | AB31: 457817.22 | AC31: 470805.2 | AD31: 473794.24 | AE31: 478549.64 | AF31: 518599.46 | AG31: 558733.66 | AH31: 572367.5 | AI31: 587663.14 | AJ31: 609994.23 | AK31: 670367.85 | AL31: 722405.46 | AM31: 779633.85 | AN31: 827349.48 | AO31: 920771.31 | AP31: 956641.1 | AQ31: 981596.12 | AR31: 1013536 | AS31: 1073146.1 | AT31: 1169536.7 | AU31: 1258038.9 | AV31: 1353872.6 | AW31: 1485285.2 | AX31: 1603873.8 | AY31: 1869068.6 | AZ31: 2056185.2 | BA31: 2169784 | BB31: 2403325 | BC31: 2394677.8 | BD31: 2492416 | BE31: 2575041.5 | BF31: 2703364.3 | BG31: 2955605 | BH31: Based on national accounts in each country, including our adjustments.
B32: 21300 | C32: Gross fixed capital formation (GFCF) | D32: million taka (2024 prices) | E32: 212524.55 | F32: 156635.83 | G32: 93869.109 | H32: 176250.77 | I32: 129882 | J32: 123817.33 | K32: 166929.67 | L32: 199429.92 | M32: 259040.6 | N32: 264046.83 | O32: 331707.4 | P32: 355114.96 | Q32: 389062.17 | R32: 415334.61 | S32: 462736.31 | T32: 495957.04 | U32: 535448.91 | V32: 590068.28 | W32: 633273.64 | X32: 684308.11 | Y32: 734902.72 | Z32: 752495.36 | AA32: 795523.61 | AB32: 877090.87 | AC32: 971570.61 | AD32: 1072628.3 | AE32: 1200935.9 | AF32: 1367074.4 | AG32: 1491227.8 | AH32: 1635074.3 | AI32: 1774954.9 | AJ32: 1944232.9 | AK32: 2107153.1 | AL32: 2366158 | AM32: 2534499.2 | AN32: 2889576.4 | AO32: 3207776.8 | AP32: 3553847.1 | AQ32: 3783471.7 | AR32: 4174731.2 | AS32: 4630905.5 | AT32: 5332349.3 | AU32: 5740110.8 | AV32: 6184336.9 | AW32: 6993780.9 | AX32: 7875907 | AY32: 8765660.9 | AZ32: 9517528.5 | BA32: 10579947 | BB32: 11432548 | BC32: 11582711 | BD32: 12536503 | BE32: 13880419 | BF32: 14517548 | BG32: 15358392 | BH32: Based on national accounts in each country, including our adjustments.
B33: 21400 | C33: Net Increase in Stocks | D33: million taka (2024 prices) | BH33: Based on national accounts in each country, including our adjustments.
B34: 21500 | C34: Exports of goods and services | D34: million taka (2024 prices) | E34: 135869.42 | F34: 98344.863 | G34: 75834.615 | H34: 140859.23 | I34: 99389.888 | J34: 111490.11 | K34: 139103.83 | L34: 174511.81 | M34: 161128.79 | N34: 187722.28 | O34: 189515.19 | P34: 242627.15 | Q34: 231816.3 | R34: 253226.69 | S34: 250834.61 | T34: 270647.46 | U34: 267536.91 | V34: 272621.14 | W34: 301748.74 | X34: 328594.14 | Y34: 387039.52 | Z34: 375074.89 | AA34: 457010 | AB34: 531929.46 | AC34: 551492.97 | AD34: 720937.66 | AE34: 779154.82 | AF34: 890711.05 | AG34: 999981.07 | AH34: 1022488 | AI34: 1169703.7 | AJ34: 1344036.9 | AK34: 1341833.1 | AL34: 1319069.1 | AM34: 1287870.6 | AN34: 1841668.7 | AO34: 2310859.3 | AP34: 2610707.3 | AQ34: 2795561.3 | AR34: 2796358.1 | AS34: 2822686.7 | AT34: 3650838.3 | AU34: 4108370.8 | AV34: 4209103.3 | AW34: 4343843 | AX34: 4220912.7 | AY34: 4320548.9 | AZ34: 4240909.1 | BA34: 4499855.6 | BB34: 5015380.3 | BC34: 4137568.8 | BD34: 4517871.6 | BE34: 5845790.2 | BF34: 6315359.4 | BG34: 5233370 | BH34: Based on national accounts in each country, including our adjustments.
B35: 21600 | C35: (less) Imports of goods and services | D35: million taka (2024 prices) | E35: 1578200.6 | F35: 1237232.3 | G35: 1235873.3 | H35: 613048.48 | I35: 384153.33 | J35: 342567.1 | K35: 471471.26 | L35: 260849.51 | M35: 413855.27 | N35: 459227.64 | O35: 612785.56 | P35: 649674.16 | Q35: 710772.59 | R35: 681293.85 | S35: 637226.11 | T35: 683373.62 | U35: 654955.15 | V35: 692299.31 | W35: 744171.3 | X35: 856147.7 | Y35: 935877.42 | Z35: 795334.73 | AA35: 725417.66 | AB35: 996863.71 | AC35: 935943.69 | AD35: 1388906 | AE35: 1584873.6 | AF35: 1633078.9 | AG35: 1706093.4 | AH35: 1745427.1 | AI35: 1924048 | AJ35: 2171264.7 | AK35: 2066013.5 | AL35: 2242647.8 | AM35: 2163031.2 | AN35: 2986339.8 | AO35: 3529568.1 | AP35: 4093806.1 | AQ35: 4015973.4 | AR35: 3911571.9 | AS35: 3938423.1 | AT35: 5086590.2 | AU35: 5621626.2 | AV35: 5690106.1 | AW35: 5756585 | AX35: 5940951.4 | AY35: 5404236.7 | AZ35: 5683322.2 | BA35: 7043624.2 | BB35: 7079228.6 | BC35: 6271519.7 | BD35: 7228926.2 | BE35: 9483128.4 | BF35: 8556280.3 | BG35: 8162774 | BH35: Based on national accounts in each country, including our adjustments.
